BEGIN:VCALENDAR
VERSION:2.0
PRODID:-//Uit in Arnhem - ECPv5.0.0.2//NONSGML v1.0//EN
CALSCALE:GREGORIAN
METHOD:PUBLISH
X-WR-CALNAME:Uit in Arnhem
X-ORIGINAL-URL:https://www.uitinarnhem.nl
X-WR-CALDESC:Events for Uit in Arnhem
BEGIN:VTIMEZONE
TZID:Europe/Amsterdam
BEGIN:DAYLIGHT
TZOFFSETFROM:+0100
TZOFFSETTO:+0200
TZNAME:CEST
DTSTART:20250330T010000
END:DAYLIGHT
BEGIN:STANDARD
TZOFFSETFROM:+0200
TZOFFSETTO:+0100
TZNAME:CET
DTSTART:20251026T010000
END:STANDARD
END:VTIMEZONE
BEGIN:VEVENT
DTSTART;TZID=Europe/Amsterdam:20250111T160000
DTEND;TZID=Europe/Amsterdam:20250112T010000
DTSTAMP:20260421T085531
CREATED:20250102T185104Z
LAST-MODIFIED:20250102T185626Z
UID:12189-1736611200-1736643600@www.uitinarnhem.nl
SUMMARY:(Z)Uitnacht in de Jacobiberg
DESCRIPTION:Op zaterdag 11 januari wordt de Jacobiberg\, het iconische oude Lorentz Lyceum\, dé plek waar Arnhem Zuid bruist van cultuur\, creativiteit en gezelligheid. Of je nu jong of oud bent\, er is voor iedereen wat te beleven\, en dat allemaal gratis! \nAvondje uit? Dompel je onder in een inspirerend programma met muziek\, dans en nog veel meer. Laat je verrassen door lokaal talent en unieke performances die Zuid laten schitteren. GRATIS TOEGANG voor iedereen – een perfecte gelegenheid om samen te komen\, cultuur te ontdekken en te genieten van wat Arnhem Zuid te bieden heeft. \nProgramma\n16:00 – 18:00 Kinderprogramma. Een middag vol plezier en avontuur! Laat je kinderen genieten van speciale activiteiten voor de kleinste cultuurliefhebbers. \n​20:00 – 23:00 Regulier programma. Laat je verrassen door lokaal talent en unieke performances met muziek\, dans en meer! Met voorstellingen van onder andere Theater Oostpool\, Jacobiberg\, Introdans\, RijnIJssel\, De Vloer en Ruimtekoers. \n23:00 – 01:00 Club (Z)Uitnacht. Sluit de avond af in stijl met een knallend feest! Dans de sterren van de hemel tijdens Club (Z)Uitnacht\, waar DJ’s zorgen voor de ultieme vibes. \nKijk op https://jacobiberg.nl/zuitnacht/ voor meer informatie. \n
URL:https://www.uitinarnhem.nl/agenda/zuitnacht-in-de-jacobiberg/
LOCATION:Jacobiberg\, Groningensingel 1245\, Arnhem\, 6835 HZ\, Nederland
CATEGORIES:Kindvriendelijk,Muziek,Overig,Theater
ATTACH;FMTTYPE=image/jpeg:https://www.uitinarnhem.nl/wp-content/uploads/2025/01/Zuidnacht-A3-WEB.jpg
END:VEVENT
END:VCALENDAR