BEGIN:VCALENDAR
VERSION:2.0
PRODID:-//Uit in Arnhem - ECPv5.0.0.2//NONSGML v1.0//EN
CALSCALE:GREGORIAN
METHOD:PUBLISH
X-WR-CALNAME:Uit in Arnhem
X-ORIGINAL-URL:https://www.uitinarnhem.nl
X-WR-CALDESC:Events for Uit in Arnhem
BEGIN:VTIMEZONE
TZID:Europe/Amsterdam
BEGIN:DAYLIGHT
TZOFFSETFROM:+0100
TZOFFSETTO:+0200
TZNAME:CEST
DTSTART:20210328T010000
END:DAYLIGHT
BEGIN:STANDARD
TZOFFSETFROM:+0200
TZOFFSETTO:+0100
TZNAME:CET
DTSTART:20211031T010000
END:STANDARD
END:VTIMEZONE
BEGIN:VEVENT
DTSTART;TZID=Europe/Amsterdam:20210731T160000
DTEND;TZID=Europe/Amsterdam:20210815T210000
DTSTAMP:20260421T105505
CREATED:20210805T064522Z
LAST-MODIFIED:20210805T064915Z
UID:6763-1627747200-1629061200@www.uitinarnhem.nl
SUMMARY:Zomeravonden in het Openluchtmuseum
DESCRIPTION:Lekker eten en drinken. Naar livemuziek luisteren. Nostalgische buitenspelletjes spelen. Een ritje maken in de museumtram. Het kan allemaal tijdens de Zomeravonden in het Openluchtmuseum. Ook zijn er rondleidingen en demonstraties van oude ambachten.  Er is zowel voor jong als oud heel veel te kiezen. En wie trek heeft kan terecht bij een van de verrukkelijke foodtrucks. Om de dorst te lessen zijn er op verschillende pleinen bars\, waarin ook het eigen museumbier wordt geschonken. De gloednieuwe ijssalon Venezia is zonder twijfel een van de topattracties. \nTickets: Nederlands Openluchtmuseum \n
URL:https://www.uitinarnhem.nl/agenda/zomeravonden-in-het-openluchtmuseum/
LOCATION:Openluchtmuseum\, Hoeferlaan 4\, Arnhem
CATEGORIES:Actief,Culinair,Kindvriendelijk,Muziek
ATTACH;FMTTYPE=image/jpeg:https://www.uitinarnhem.nl/wp-content/uploads/2021/08/poging4.jpg
END:VEVENT
END:VCALENDAR