BEGIN:VCALENDAR
VERSION:2.0
PRODID:-//Uit in Arnhem - ECPv5.0.0.2//NONSGML v1.0//EN
CALSCALE:GREGORIAN
METHOD:PUBLISH
X-WR-CALNAME:Uit in Arnhem
X-ORIGINAL-URL:https://www.uitinarnhem.nl
X-WR-CALDESC:Events for Uit in Arnhem
BEGIN:VTIMEZONE
TZID:Europe/Amsterdam
BEGIN:DAYLIGHT
TZOFFSETFROM:+0100
TZOFFSETTO:+0200
TZNAME:CEST
DTSTART:20250330T010000
END:DAYLIGHT
BEGIN:STANDARD
TZOFFSETFROM:+0200
TZOFFSETTO:+0100
TZNAME:CET
DTSTART:20251026T010000
END:STANDARD
END:VTIMEZONE
BEGIN:VEVENT
DTSTART;TZID=Europe/Amsterdam:20250720T110000
DTEND;TZID=Europe/Amsterdam:20250720T180000
DTSTAMP:20260421T051443
CREATED:20250630T134357Z
LAST-MODIFIED:20250630T134357Z
UID:13383-1753009200-1753034400@www.uitinarnhem.nl
SUMMARY:Zeldzaam Mooi Markt in Sonsbeekpark
DESCRIPTION:Op zondag 20 juli 2025 is er weer een Zeldzaam Mooi Markt in het prachtige Sonsbeekpark in Arnhem. Het is een markt met mooie producten van lokale en regionale kunstenaars\, ontwerpers en creatieve ondernemers. Alle producten zijn handgemaakt\, zelfontworpen of in kleine oplages (lokaal) geproduceerd. Daarnaast worden er ook ambachtelijke (biologische) lekkernijen verkocht.  \nOok aan de muzikale omlijsting is gedacht met heerlijke live muziek. \nBellenblaas kunstenaar Frans van de Kamp geeft tijdens de Zeldzaam Mooi Markt mega zeepbellen demonstraties voor jong en oud.  \nJuist de niet alledaagse dingen maken deze markt zo bijzonder. \nWaar: Sonsbeekpark in Arnhem\nWanneer: 20 juli 2025 van 11:00 tot 18:00 uur\nToegang: gratis\nWil je deelnemen? Schrijf je in via https://www.zeldzaammooi.com/deelnemen \n
URL:https://www.uitinarnhem.nl/agenda/zeldzaam-mooi-markt-in-sonsbeekpark-5/
LOCATION:Sonsbeekpark\, Tellegenlaan 3\, Arnhem\, 6814BT
CATEGORIES:Culinair,Markt,Overig
ATTACH;FMTTYPE=image/jpeg:https://www.uitinarnhem.nl/wp-content/uploads/2025/06/zeldzaam-mooi3-1.jpg
END:VEVENT
END:VCALENDAR