BEGIN:VCALENDAR
VERSION:2.0
PRODID:-//Uit in Arnhem - ECPv5.0.0.2//NONSGML v1.0//EN
CALSCALE:GREGORIAN
METHOD:PUBLISH
X-WR-CALNAME:Uit in Arnhem
X-ORIGINAL-URL:https://www.uitinarnhem.nl
X-WR-CALDESC:Events for Uit in Arnhem
BEGIN:VTIMEZONE
TZID:Europe/Amsterdam
BEGIN:DAYLIGHT
TZOFFSETFROM:+0100
TZOFFSETTO:+0200
TZNAME:CEST
DTSTART:20250330T010000
END:DAYLIGHT
BEGIN:STANDARD
TZOFFSETFROM:+0200
TZOFFSETTO:+0100
TZNAME:CET
DTSTART:20251026T010000
END:STANDARD
END:VTIMEZONE
BEGIN:VEVENT
DTSTART;TZID=Europe/Amsterdam:20250523T120000
DTEND;TZID=Europe/Amsterdam:20250525T190000
DTSTAMP:20260421T093830
CREATED:20250515T124455Z
LAST-MODIFIED:20250515T124456Z
UID:13259-1748001600-1748199600@www.uitinarnhem.nl
SUMMARY:WUNDERKAMMER #4 in Modekwartier Arnhem
DESCRIPTION:WUNDERKAMMER in Modekwartier Arnhem \nAan de Sonsbeeksingel 147 in het Arnhemse Modekwartier bevind zich de ModeIncubator\, een verzamelpand waar verschillende ontwerpers en kunstenaars hun werkplek hebben. \nÉén van hen is ontwerper/maker/ verzamelaar Loes Bonekamp. \nOp 23-24-25 mei organiseert zij de vierde editie van het verkoopevenement WUNDERKAMMER in de grote zaal van de ModeIncubator. \nLoes verkoopt haar unieke handgemaakte producten zoals sieraden\, shawls\, borduursels\, vazen\, kussens\, krukjes en meer gecombineerd met prachtig vintage servies en glaswerk. \nJe bent deze dagen van harte welkom om te komen kijken en kopen. \nVoor meer info\, kijk op \nVoor meer info\, kijk op Instagram: Loes Bonekamp  \n
URL:https://www.uitinarnhem.nl/agenda/wunderkammer-4-in-modekwartier-arnhem/
LOCATION:WUNDERKAMMER #4\, Sonsbeeksingel 147\, Arnhem\, 6822BL
CATEGORIES:Markt,Tentoonstelling
ATTACH;FMTTYPE=image/jpeg:https://www.uitinarnhem.nl/wp-content/uploads/2025/05/WUNDERKAMMER.jpg
END:VEVENT
END:VCALENDAR