BEGIN:VCALENDAR
VERSION:2.0
PRODID:-//Uit in Arnhem - ECPv5.0.0.2//NONSGML v1.0//EN
CALSCALE:GREGORIAN
METHOD:PUBLISH
X-WR-CALNAME:Uit in Arnhem
X-ORIGINAL-URL:https://www.uitinarnhem.nl
X-WR-CALDESC:Events for Uit in Arnhem
BEGIN:VTIMEZONE
TZID:Europe/Amsterdam
BEGIN:DAYLIGHT
TZOFFSETFROM:+0100
TZOFFSETTO:+0200
TZNAME:CEST
DTSTART:20210328T010000
END:DAYLIGHT
BEGIN:STANDARD
TZOFFSETFROM:+0200
TZOFFSETTO:+0100
TZNAME:CET
DTSTART:20211031T010000
END:STANDARD
END:VTIMEZONE
BEGIN:VEVENT
DTSTART;TZID=Europe/Amsterdam:20210809T080000
DTEND;TZID=Europe/Amsterdam:20210814T090000
DTSTAMP:20260421T103839
CREATED:20210809T084809Z
LAST-MODIFIED:20210809T090717Z
UID:6797-1628496000-1628931600@www.uitinarnhem.nl
SUMMARY:WM BMX Puzzeltocht binnenstad Arnhem
DESCRIPTION:Doe mee aan BMX-puzzeltocht en win een BMX-fiets!\nOp 22 augustus wordt het WK BMX verreden op Papendal. De beste rijders uit de hele wereld strijden voor de titel. In aanloop naar dit spektakel en wereldkampioenschap is er een bijzondere BMX puzzeltocht in de binnenstad uitgezet. In de etalages van 20 winkels zijn 20 borden met een BMX foto verstopt.  De borden zijn te vinden in de etalages van winkels in het gebied Koningstraat\, Ketelstraat\, Vijzelstraat\, Weverstraat en Broerenstraat. \nVind jij alle 20 borden? Dan maak je kans op een echte BMX-fiets! Maar er worden ook tickets weggegeven onder alle deelnemers. \nMeedoen?\nDownload dan hier het deelnameformulier\, of scoor een formulier bij Dudok. Schrijf de namen van de winkels op het formulier en lever het in bij Dudok.\nLet op: inleveren voor 14 augustus! \nMeer informatie over het WK BMX vind je hier: https://wk.bmxpapendal.nl/ \n
URL:https://www.uitinarnhem.nl/agenda/wm-bmx-puzzeltocht-binnenstad-arnhem/
LOCATION:Binnenstad Arnhem
CATEGORIES:Actief,Kindvriendelijk
ATTACH;FMTTYPE=image/jpeg:https://www.uitinarnhem.nl/wp-content/uploads/2021/08/BMX-Papendal_Content_12-600x600-1.jpg
END:VEVENT
END:VCALENDAR