BEGIN:VCALENDAR
VERSION:2.0
PRODID:-//Uit in Arnhem - ECPv5.0.0.2//NONSGML v1.0//EN
CALSCALE:GREGORIAN
METHOD:PUBLISH
X-WR-CALNAME:Uit in Arnhem
X-ORIGINAL-URL:https://www.uitinarnhem.nl
X-WR-CALDESC:Events for Uit in Arnhem
BEGIN:VTIMEZONE
TZID:Europe/Amsterdam
BEGIN:DAYLIGHT
TZOFFSETFROM:+0100
TZOFFSETTO:+0200
TZNAME:CEST
DTSTART:20210328T010000
END:DAYLIGHT
BEGIN:STANDARD
TZOFFSETFROM:+0200
TZOFFSETTO:+0100
TZNAME:CET
DTSTART:20211031T010000
END:STANDARD
END:VTIMEZONE
BEGIN:VEVENT
DTSTART;TZID=Europe/Amsterdam:20210814T080000
DTEND;TZID=Europe/Amsterdam:20210822T170000
DTSTAMP:20260421T051338
CREATED:20210710T080651Z
LAST-MODIFIED:20210710T080651Z
UID:6569-1628928000-1629651600@www.uitinarnhem.nl
SUMMARY:WK BMX Papendal Arnhem
DESCRIPTION:In de zomer van 2021 (14 – 22 augustus 2021) vindt de BMX World Championships plaats. Het WK wordt een festijn niet alleen voor de BMX fan maar ook voor het grote publiek en het bedrijfsleven. Uiteraard zullen de richtlijnen vastgesteld door de Nederlandse overheid en het RIVM in acht worden genomen. Naast het WK BMX zijn er maatschappelijke programma’s\, muziek & entertainment en diverse side events. Zo maakt het WK BMX onderdeel uit van het Ultimate Urban Festival.Pap \nHet belooft weer een spannende race te worden op de thuisbaan #OpPapendal. Kom met eigen ogen aanschouwen hoe de beste BMX-rijders van de wereld zich lanceren van een acht meter hoge startheuvel. Om vervolgens te proberen elkaar voor te blijven op een baan met vette sprongen en strakke bochten. \nKom jij de rijders uit de hele wereld aanmoedigen #OpPapendal?\nTot dan! \n
URL:https://www.uitinarnhem.nl/agenda/wk-bmx-papendal-arnhem/
LOCATION:Papendal\, Papendallaan 3\, Arnhem\, 6816VD
ATTACH;FMTTYPE=image/jpeg:https://www.uitinarnhem.nl/wp-content/uploads/2021/07/bmxsx-framed-print-318-dsc0797_4283379714-scaled.jpeg
END:VEVENT
END:VCALENDAR