BEGIN:VCALENDAR
VERSION:2.0
PRODID:-//Uit in Arnhem - ECPv5.0.0.2//NONSGML v1.0//EN
CALSCALE:GREGORIAN
METHOD:PUBLISH
X-WR-CALNAME:Uit in Arnhem
X-ORIGINAL-URL:https://www.uitinarnhem.nl
X-WR-CALDESC:Events for Uit in Arnhem
BEGIN:VTIMEZONE
TZID:Europe/Amsterdam
BEGIN:DAYLIGHT
TZOFFSETFROM:+0100
TZOFFSETTO:+0200
TZNAME:CEST
DTSTART:20250330T010000
END:DAYLIGHT
BEGIN:STANDARD
TZOFFSETFROM:+0200
TZOFFSETTO:+0100
TZNAME:CET
DTSTART:20251026T010000
END:STANDARD
END:VTIMEZONE
BEGIN:VEVENT
DTSTART;TZID=Europe/Amsterdam:20250628T130000
DTEND;TZID=Europe/Amsterdam:20250628T170000
DTSTAMP:20260421T085610
CREATED:20250526T180012Z
LAST-MODIFIED:20250526T180012Z
UID:13301-1751115600-1751130000@www.uitinarnhem.nl
SUMMARY:Wijnfietsen in Gelderland
DESCRIPTION:Op zaterdag 28 juni vindt de allereerste editie plaats van Wijnfietsen. Dit evenement brengt gastronomie en natuur samen in een fietstocht langs zes lokale ondernemers\, waarbij deelnemers genieten van een heerlijk proefglas wijn met een bijpassend hapje op elke locatie. \nTijdens de tocht fiets je een mooie route door het afwisselende landschap van Arnhem-Noord\, Velp en Rheden\, waarbij bij elke stop een lokale ondernemer een goed glas wijn met een bijpassend hapje serveert. Deelnemers ontvangen een routekaart en een stempelkaart\, zodat ze optimaal kunnen genieten van deze unieke wijnervaring. Je neemt je eigen fiets mee en bepaalt je eigen tempo. \nWat kun je verwachten?\n✔ Een afwisselende fietsroute van ongeveer 20 km langs zes lokale ondernemers ✔ Bij elke stop een heerlijk proefglas (7\,5 cl) wijn met een smaakvol hapje ✔ Een ontspannen en sfeervolle middag vol ontdekkingen ✔ Inclusief route- en stempelkaart ✔ Geschikt voor iedereen die houdt van fietsen\, wijn en gezelligheid. \nPraktische informatie\nDatum: Zaterdag 28 juni\nTijd: 13:00 – 17:00 uur\nStartlocatie: Je start bij een locatie naar keuze\nLengte: Circa 20 km \nTickets\nKoop je tickets via: https://wijnfietsen.weticket.io \nEarly bird: €35\,- (beperkt beschikbaar!)\nRegulier: €40\,- (Inclusief 6 proefglazen wijn met hapjes\, route & materialen) \n
URL:https://www.uitinarnhem.nl/agenda/wijnfietsen-in-gelderland/
LOCATION:Posbank\, Heuvenseweg\, Rheden
CATEGORIES:Actief,Culinair,Overig
ATTACH;FMTTYPE=image/jpeg:https://www.uitinarnhem.nl/wp-content/uploads/2025/05/wijnfietsen-2025__by_wijnfietsen__cover_photo-019708d8-cb6d-71db-9953-12a993008f8f.jpg
END:VEVENT
END:VCALENDAR