BEGIN:VCALENDAR
VERSION:2.0
PRODID:-//Uit in Arnhem - ECPv5.0.0.2//NONSGML v1.0//EN
CALSCALE:GREGORIAN
METHOD:PUBLISH
X-WR-CALNAME:Uit in Arnhem
X-ORIGINAL-URL:https://www.uitinarnhem.nl
X-WR-CALDESC:Events for Uit in Arnhem
BEGIN:VTIMEZONE
TZID:Europe/Amsterdam
BEGIN:DAYLIGHT
TZOFFSETFROM:+0100
TZOFFSETTO:+0200
TZNAME:CEST
DTSTART:20260329T010000
END:DAYLIGHT
BEGIN:STANDARD
TZOFFSETFROM:+0200
TZOFFSETTO:+0100
TZNAME:CET
DTSTART:20261025T010000
END:STANDARD
END:VTIMEZONE
BEGIN:VEVENT
DTSTART;TZID=Europe/Amsterdam:20260627T123000
DTEND;TZID=Europe/Amsterdam:20260627T170000
DTSTAMP:20260421T100725
CREATED:20260311T080259Z
LAST-MODIFIED:20260311T081753Z
UID:14103-1782563400-1782579600@www.uitinarnhem.nl
SUMMARY:Wijnfietsen keert terug in Arnhem
DESCRIPTION:Wijnfietsen: culinaire fietstocht door Arnhem-Noord\, Velp en Rheden\nNa een succesvolle eerste editie keert Wijnfietsen op zaterdag 27 juni 2026 terug in Gelderland. De culinaire fietstocht groeit daarmee uit tot een jaarlijks evenement voor liefhebbers van wijn\, fietsen en gezelligheid. \nDeelnemers fietsen een route van ongeveer 25 kilometer door Arnhem-Noord\, Velp en Rheden. Onderweg stoppen zij bij zes lokale ondernemers\, waar telkens een proefglas wijn met een bijpassend hapje klaarstaat.  \n\nDe combinatie van gastronomie\, natuur en laagdrempelige gezelligheid bleek vorig jaar een schot in de roos. De organisatie ziet dat de belangstelling voor kleinschalige\, lokale beleving groeit. “Mensen willen ontdekken wat er in hun eigen omgeving te proeven en te beleven valt. Wijnfietsen brengt dat samen op een ontspannen manier: je bepaalt je eigen tempo\, je bent buiten en je maakt kennis met ondernemers die met passie werken.” \n\nWat deelnemers kunnen verwachten \nEen afwisselende fietsroute van ongeveer 25 km langs zes lokale ondernemers. \nBij elke stop een proefglas wijn (7\,5 cl) met een passend hapje. \nEen ontspannen en sfeervolle middag vol ontdekkingen.  \nGeschikt voor iedereen die houdt van fietsen\, wijn en gezelligheid.  \nLiever alcoholvrij genieten? Laat je dan bij elke stop verrassen door een heerlijke 0\,0 wijn. \n  \nPraktische informatie \nDatum: Zaterdag 27 juni 2026 \nTijd: 12:30 – 17:00 uur \nAfstand: Circa 25 km\nStartlocatie: bepaal zelf waar je de route begint bij het kopen van je ticket \nTickets \nTickets zijn verkrijgbaar via: https://wijnfietsen.weticket.io \nEarly bird: €37\,50 (uitverkocht)  \nRegulier: €42\,50 Inclusief zes proefglazen wijn met hapjes\, routekaart en materialen. \n
URL:https://www.uitinarnhem.nl/agenda/wijnfietsen-in-en-rond-arnhem/
LOCATION:Arnhem
CATEGORIES:Actief
ATTACH;FMTTYPE=image/png:https://www.uitinarnhem.nl/wp-content/uploads/2026/03/wijnfietsen-2026__by_wijnfietsen__cover_photo-019c3279-5a25-7373-ab11-9cf08d0eefb7.png
END:VEVENT
END:VCALENDAR