BEGIN:VCALENDAR
VERSION:2.0
PRODID:-//Uit in Arnhem - ECPv5.0.0.2//NONSGML v1.0//EN
CALSCALE:GREGORIAN
METHOD:PUBLISH
X-WR-CALNAME:Uit in Arnhem
X-ORIGINAL-URL:https://www.uitinarnhem.nl
X-WR-CALDESC:Events for Uit in Arnhem
BEGIN:VTIMEZONE
TZID:Europe/Amsterdam
BEGIN:DAYLIGHT
TZOFFSETFROM:+0100
TZOFFSETTO:+0200
TZNAME:CEST
DTSTART:20250330T010000
END:DAYLIGHT
BEGIN:STANDARD
TZOFFSETFROM:+0200
TZOFFSETTO:+0100
TZNAME:CET
DTSTART:20251026T010000
END:STANDARD
END:VTIMEZONE
BEGIN:VEVENT
DTSTART;TZID=Europe/Amsterdam:20250107T100000
DTEND;TZID=Europe/Amsterdam:20250216T170000
DTSTAMP:20260421T101401
CREATED:20250109T185425Z
LAST-MODIFIED:20250109T185425Z
UID:12227-1736244000-1739725200@www.uitinarnhem.nl
SUMMARY:WhiteNoiseDada in Museum Arnhem
DESCRIPTION:Foto: Joshua Victor Semaganda\nVan 7 januari tot en met 16 februari 2025 is in De Koepel van Museum Arnhem de tentoonstelling WhiteNoiseDada te zien. Deze expositie combineert kunst\, design en activisme om de absurditeiten van onze consumptiemaatschappij en wegwerpcultuur bloot te leggen. In het bijzonder ontdek je de persoonlijke kunstwerken\, gemaakt van afvalglas. Deze zijn ontstaan uit een project dat WhiteNoiseDada uitvoerde met inwoners van Kampala\, Oeganda. \nDe tentoonstelling toont het innovatieve werk van WhiteNoiseDada (WND). Dit is een multidisciplinair ontwerpbureau dat in 2019 is opgericht door de Arnhemse Klaas Kuiken en Charley Reijnders. Geïnspireerd door het dadaïsme en punk creëren zij unieke objecten die onze omgang met afval\, consumptie en massaproductie ter discussie stellen. Met humor\, satire maar ook een flinke dosis creativiteit experimenteren zij hierbij met onconventionele materialen. Denk hierbij aan bijvoorbeeld verbrande plastic tassen\, afgedankte bloemen en afvalglas. \nIn de expositie staat in het bijzonder het project centraal dat WND in januari 2024 samen met Afrika Arts Kollective uitvoerde in Kampala\, Oeganda. Hiervoor werkte WND met buurtbewoners uit de wijk Kyebando aan kunstwerken van hergebruikt afvalglas\, waarmee persoonlijke verhalen werden verteld. In de tentoonstelling ontdek je deze kunstwerken\, die elk een uniek verhaal over veerkracht\, traditie en vernieuwing vertellen. Deze verhalen worden ondersteund door portretten van de deelnemers\, gemaakt door de Oegandese fotograaf Joshua Victor Semaganda. \nVoor meer informatie kijk op: Museum Arnhem. De tentoonstelling is gratis toegankelijk. \n
URL:https://www.uitinarnhem.nl/agenda/whitenoisedada-in-museum-arnhem/
LOCATION:Museum Arnhem\, Utrechtseweg 87\, Arnhem\, Gelderland\, 6812 AA\, Nederland
CATEGORIES:Informatief & Verrijking,Tentoonstelling
ATTACH;FMTTYPE=image/jpeg:https://www.uitinarnhem.nl/wp-content/uploads/2025/01/Workshop-in-Kampala-Oeganda.-Fotografie-Joshua-Victor-Semaganda.-1.jpg
END:VEVENT
END:VCALENDAR