BEGIN:VCALENDAR
VERSION:2.0
PRODID:-//Uit in Arnhem - ECPv5.0.0.2//NONSGML v1.0//EN
CALSCALE:GREGORIAN
METHOD:PUBLISH
X-WR-CALNAME:Uit in Arnhem
X-ORIGINAL-URL:https://www.uitinarnhem.nl
X-WR-CALDESC:Events for Uit in Arnhem
BEGIN:VTIMEZONE
TZID:Europe/Amsterdam
BEGIN:DAYLIGHT
TZOFFSETFROM:+0100
TZOFFSETTO:+0200
TZNAME:CEST
DTSTART:20210328T010000
END:DAYLIGHT
BEGIN:STANDARD
TZOFFSETFROM:+0200
TZOFFSETTO:+0100
TZNAME:CET
DTSTART:20211031T010000
END:STANDARD
END:VTIMEZONE
BEGIN:VEVENT
DTSTART;TZID=Europe/Amsterdam:20211016T080000
DTEND;TZID=Europe/Amsterdam:20211024T220000
DTSTAMP:20260421T013137
CREATED:20210830T081759Z
LAST-MODIFIED:20210830T083052Z
UID:7046-1634371200-1635112800@www.uitinarnhem.nl
SUMMARY:Week van de Koloniale Geschiedenis Museum Bronbeek
DESCRIPTION:Films\, muziek\, theater en lezingen in Week van de Koloniale Geschiedenis\nMet films\, muziek\, een theatervoorstelling\, lezingen\, een volksopera en verhalen van ooggetuigen staat Museum Bronbeek vanaf zaterdag 16 oktober tot 24 oktober uitgebreid stil bij de koloniale geschiedenis van Nederland. \nMuseum Bronbeek organiseert in de ‘Week van de Koloniale Geschiedenis’ activiteiten rond het thema ‘Aan het werk’ in samenwerking met Erfgoed Gelderland\, Focus Filmtheater\, Stichting TRISKontakten en het Indo Filmcafé/Lux Nijmegen. \nBreed programma op verschillende locaties\nHet programma speelt zich niet alleen af op landgoed Bronbeek; ook in Rozet\,  Focus Filmtheater en het Nijmeegse Lux zijn activiteiten. Leidend thema in deze Week van de Koloniale Geschiedenis is ‘Aan het werk’. Allerlei vormen van werk in de voormalige koloniën in Oost en West worden in een afwisselend programma belicht. \nBenieuwd naar het volledige programma op de verschillende locaties?\nBekijk het hier:  https://www.maandvandegeschiedenis.nl/page/17926/week-van-de-koloniale-geschiedenis-2021 \nDe ‘Week van de Koloniale Geschiedenis’ is onderdeel van de landelijke ‘Maand van de Geschiedenis’. \n
URL:https://www.uitinarnhem.nl/agenda/week-van-de-koloniale-geschiedenis-museum-bronbeek/
LOCATION:Museum Bronbeek\, Velperweg 147\, Arnhem\, 6824 MB\, Nederland
CATEGORIES:Muziek,Tentoonstelling,Theater
ATTACH;FMTTYPE=image/jpeg:https://www.uitinarnhem.nl/wp-content/uploads/2021/08/Afbeelding-Bronbeek-scaled.jpg
END:VEVENT
END:VCALENDAR