BEGIN:VCALENDAR
VERSION:2.0
PRODID:-//Uit in Arnhem - ECPv5.0.0.2//NONSGML v1.0//EN
CALSCALE:GREGORIAN
METHOD:PUBLISH
X-WR-CALNAME:Uit in Arnhem
X-ORIGINAL-URL:https://www.uitinarnhem.nl
X-WR-CALDESC:Events for Uit in Arnhem
BEGIN:VTIMEZONE
TZID:Europe/Amsterdam
BEGIN:DAYLIGHT
TZOFFSETFROM:+0100
TZOFFSETTO:+0200
TZNAME:CEST
DTSTART:20210328T010000
END:DAYLIGHT
BEGIN:STANDARD
TZOFFSETFROM:+0200
TZOFFSETTO:+0100
TZNAME:CET
DTSTART:20211031T010000
END:STANDARD
END:VTIMEZONE
BEGIN:VEVENT
DTSTART;TZID=Europe/Amsterdam:20210707T080000
DTEND;TZID=Europe/Amsterdam:20210827T170000
DTSTAMP:20260421T034956
CREATED:20210707T132328Z
LAST-MODIFIED:20210707T132329Z
UID:6529-1625644800-1630083600@www.uitinarnhem.nl
SUMMARY:WANDELEN DOOR DE GESCHIEDENIS VAN SONSBEEK - SONSBEEK 20/24
DESCRIPTION:Zowel Apple als Android gebruikers kunnen vanaf nu genieten van wandelingen door Arnhem en omstreken. Loop je voorbij het zilveren zonnestelsel in sonsbeekpark\, kan je nu met behulp van de app het werk uiteenzetten en op een interactieve manier de geschiedenis hiervan ontdekken. \nDe app transformeert jouw wandeling in het heden naar een augmented reality tour\, waarin je door het verleden van sonsbeek heen loopt; het erfgoed waar de afgelopen 80 jaar (ofwel 11 edities) hebben plaatsgevonden door hulp van Arnhemmers\, gemeenschappen\, instituten en organisaties. \nHet enige wat je hoeft te doen is de app te downloaden\, op stap te gaan in Arnhem\, je locatie aan te zetten en je camera te richten op een van de kunstwerken. Point and …. je wordt getransporteerd naar een virtuele wereld met beeldmateriaal uit het sonsbeek archief en gesproken teksten over de kunstwerken! \nDit zal de eerste fase van de app zijn. Waar de tweede fase zich in uitbreidt\, blijft nog even een verrassing… \nWil je weten hoe het werkt en het zelf uitproberen? Download de app dan in de App store of Google Play! \nDeze wandeling is onderdeel van Sonsbeek 20/24. Meer weten over deze bijzondere en internationale kunstmanifestatie? Kijk dan op: https://www.sonsbeek20-24.org/ \n  \n
URL:https://www.uitinarnhem.nl/agenda/wandelen-door-de-geschiedenis-van-sonsbeek-sonsbeek-20-24/
LOCATION:Sonsbeekpark\, Tellegenlaan 3\, Arnhem\, 6814BT
CATEGORIES:Actief,Tentoonstelling
ATTACH;FMTTYPE=image/png:https://www.uitinarnhem.nl/wp-content/uploads/2021/07/Screenshot_2021-06-07_at_16.51.1.2e16d0ba.fill-2000x1500-1.png
END:VEVENT
END:VCALENDAR