BEGIN:VCALENDAR
VERSION:2.0
PRODID:-//Uit in Arnhem - ECPv5.0.0.2//NONSGML v1.0//EN
CALSCALE:GREGORIAN
METHOD:PUBLISH
X-WR-CALNAME:Uit in Arnhem
X-ORIGINAL-URL:https://www.uitinarnhem.nl
X-WR-CALDESC:Events for Uit in Arnhem
BEGIN:VTIMEZONE
TZID:Europe/Amsterdam
BEGIN:DAYLIGHT
TZOFFSETFROM:+0100
TZOFFSETTO:+0200
TZNAME:CEST
DTSTART:20240331T010000
END:DAYLIGHT
BEGIN:STANDARD
TZOFFSETFROM:+0200
TZOFFSETTO:+0100
TZNAME:CET
DTSTART:20241027T010000
END:STANDARD
END:VTIMEZONE
BEGIN:VEVENT
DTSTART;TZID=Europe/Amsterdam:20240407T121500
DTEND;TZID=Europe/Amsterdam:20240407T121500
DTSTAMP:20260421T092226
CREATED:20240402T110323Z
LAST-MODIFIED:20240402T110323Z
UID:8693-1712492100-1712492100@www.uitinarnhem.nl
SUMMARY:Vitesse vs NEC in Gelredome Arnhem
DESCRIPTION:De Gelderse derby in GelreDome! Zondag 7 april om 12.15 uur staat de derby tegen NEC op het programma in Arnhem. \nTickets zijn al verkrijgbaar vanaf €6\,75. Tickets voor deze wedstrijd zijn hier \n
URL:https://www.uitinarnhem.nl/agenda/vitesse-vs-nec-in-gelredome-arnhem/
LOCATION:Gelredome\, Batavierenweg 25\, Arnhem\, Arnhem\, 6841HN
CATEGORIES:Actief
ATTACH;FMTTYPE=image/jpeg:https://www.uitinarnhem.nl/wp-content/uploads/2024/04/vitnec-2068779580_3957619461.jpg
END:VEVENT
END:VCALENDAR