BEGIN:VCALENDAR
VERSION:2.0
PRODID:-//Uit in Arnhem - ECPv5.0.0.2//NONSGML v1.0//EN
CALSCALE:GREGORIAN
METHOD:PUBLISH
X-WR-CALNAME:Uit in Arnhem
X-ORIGINAL-URL:https://www.uitinarnhem.nl
X-WR-CALDESC:Events for Uit in Arnhem
BEGIN:VTIMEZONE
TZID:Europe/Amsterdam
BEGIN:DAYLIGHT
TZOFFSETFROM:+0100
TZOFFSETTO:+0200
TZNAME:CEST
DTSTART:20240331T010000
END:DAYLIGHT
BEGIN:STANDARD
TZOFFSETFROM:+0200
TZOFFSETTO:+0100
TZNAME:CET
DTSTART:20241027T010000
END:STANDARD
END:VTIMEZONE
BEGIN:VEVENT
DTSTART;TZID=Europe/Amsterdam:20240807T130000
DTEND;TZID=Europe/Amsterdam:20240807T170000
DTSTAMP:20260421T090426
CREATED:20240730T135718Z
LAST-MODIFIED:20240730T135718Z
UID:10155-1723035600-1723050000@www.uitinarnhem.nl
SUMMARY:Urbanexperience op de Markt
DESCRIPTION:Houd jij van urban? Dan is de urbanexperience echt iets voor jou! Geniet van een spectaculaire breakdancebattle\, verleg je grenzen op de wall en laat je skills zien met streethandball en 3×3 basketbal. Probeer de bmx pumptrack\, dans op de dancepads en maak je eigen kunst bij de graffitiworkshops. Een dag vol actie\, creativiteit en urban vibes. \nDatum: woensdag 7 augustus\nTijd: 13.00 – 17.00 uur \nVoor alle leeftijden! Gratis entree. \nDoe mee aan de breaking battle tijdens de urbanexperience. Er ligt €500\,- prijzengeld voor je klaar. \n\n13.00 uur inschrijven op locatie\n14.00 uur 2 vs 2 kids (t/m 16 jaar)\n15.30 uur 1 vs 1 (adults)\n\nDeze zomer bruist het van de sportevenementen en kleurt Nederland oranje! Kom in de zomervakantie naar de Markt en beleef de sport in Arnhem samen. Klik hier voor meer activiteiten op de Markt. \n
URL:https://www.uitinarnhem.nl/agenda/urbanexperience-op-de-markt/
LOCATION:Markt\, Markt\, Arnhem\, Nederland
CATEGORIES:Actief,Kindvriendelijk,Sport
ATTACH;FMTTYPE=image/jpeg:https://www.uitinarnhem.nl/wp-content/uploads/2024/07/20240707_Urbanexperience_insta.jpg
END:VEVENT
END:VCALENDAR