BEGIN:VCALENDAR
VERSION:2.0
PRODID:-//Uit in Arnhem - ECPv5.0.0.2//NONSGML v1.0//EN
CALSCALE:GREGORIAN
METHOD:PUBLISH
X-WR-CALNAME:Uit in Arnhem
X-ORIGINAL-URL:https://www.uitinarnhem.nl
X-WR-CALDESC:Events for Uit in Arnhem
BEGIN:VTIMEZONE
TZID:Europe/Amsterdam
BEGIN:DAYLIGHT
TZOFFSETFROM:+0100
TZOFFSETTO:+0200
TZNAME:CEST
DTSTART:20240331T010000
END:DAYLIGHT
BEGIN:STANDARD
TZOFFSETFROM:+0200
TZOFFSETTO:+0100
TZNAME:CET
DTSTART:20241027T010000
END:STANDARD
END:VTIMEZONE
BEGIN:VEVENT
DTSTART;TZID=Europe/Amsterdam:20240913T200000
DTEND;TZID=Europe/Amsterdam:20240914T221500
DTSTAMP:20260421T133856
CREATED:20240702T105634Z
LAST-MODIFIED:20240702T105747Z
UID:9755-1726257600-1726352100@www.uitinarnhem.nl
SUMMARY:Uniek concert in Eusebiuskerk Arnhem - 80 jaar Market Garden
DESCRIPTION:Op 13 en 14 september 2024 verzorgt het Arnhem Promenade Orkest een uniek concert in de Eusebiuskerk in Arnhem. Dit concert is ter herdenking aan 80 jaar Market Garden. \nOp het programma staan memorabele muziek stukken uit de Market Garden periode. Dit jaar zijn er speciale gasten als de Pegasus Pipes en de Indische zangeressen Nona. Zij laten ons even stil staan bij de koloniale oorlog en daarnaast zingt de Oekraïense zangeres Yana Popova het door haar geschreven Melody. Uiteraard worden de gasten begeleid door het Arnhems Promenade Orkest. \nHet Arnhems Promenade Orkest is een bijzonder projectorkest dat voor deze gelegenheid bestaat uit zestig zeer getalenteerde amateur muzikanten uit Arnhemse en regionale harmonie/fanfare verenigingen. Dit unieke orkest staat onder leiding van dirigent Peter Smits.\nJaarlijks brengt het Arnhems Promenade Orkest een bijzonder concert\, zoals het Arnhem concert met Karin Bloemen\, Queen Symphony\, de Gelre Passion met solisten Linda Wagenmakers en Tony Neefs\, Symphonica at the Zoo (in Burgers Zoo) en in 2019 het zeer succesvolle Market Garden Memorial concert. \nSeptember 2024 staat in het teken van 80 jaar Market Garden en dan verzorgt het Arnhems Promenade Orkest op 13 en 14 september in de Eusebiuskerk in Arnhem een tweetal concerten. \n80 jaar Market Garden Concert\ndoor Arnhems Promenade Orkest\n13 en 14 september 2024\nEusebiuskerk Arnhem\, Kerkplein 1\, 6811 EB Arnhem\naanvang   20:00 uur\nkerk open 19:15 uur\nTicket/entreekaarten alleen via www.arnhemspromenadeorkest.nl \nBekijk hier de hele agenda van UIT in Arnhem. \n
URL:https://www.uitinarnhem.nl/agenda/uniek-concert-in-eusebiuskerk-arnhem-80-jaar-market-garden/
LOCATION:Eusebiuskerk\, Kerkplein 1\, Arnhem\, 6811EB
CATEGORIES:Muziek
ATTACH;FMTTYPE=image/jpeg:https://www.uitinarnhem.nl/wp-content/uploads/2024/07/arnhems_promonade_orkest_20130100-foto-peter-drent-3-scaled.jpg
END:VEVENT
END:VCALENDAR