BEGIN:VCALENDAR
VERSION:2.0
PRODID:-//Uit in Arnhem - ECPv5.0.0.2//NONSGML v1.0//EN
CALSCALE:GREGORIAN
METHOD:PUBLISH
X-WR-CALNAME:Uit in Arnhem
X-ORIGINAL-URL:https://www.uitinarnhem.nl
X-WR-CALDESC:Events for Uit in Arnhem
BEGIN:VTIMEZONE
TZID:Europe/Amsterdam
BEGIN:DAYLIGHT
TZOFFSETFROM:+0100
TZOFFSETTO:+0200
TZNAME:CEST
DTSTART:20210328T010000
END:DAYLIGHT
BEGIN:STANDARD
TZOFFSETFROM:+0200
TZOFFSETTO:+0100
TZNAME:CET
DTSTART:20211031T010000
END:STANDARD
END:VTIMEZONE
BEGIN:VEVENT
DTSTART;TZID=Europe/Amsterdam:20210625T143000
DTEND;TZID=Europe/Amsterdam:20210625T160000
DTSTAMP:20260421T013140
CREATED:20210607T134438Z
LAST-MODIFIED:20210607T134439Z
UID:6419-1624631400-1624636800@www.uitinarnhem.nl
SUMMARY:Tuimel & bounce - Danstheater Kids
DESCRIPTION:\nLeuke voorstelling voor kinderen in het Stadstheater \nBAM\, daar kukel je weer om! Best moeilijk om in balans te blijven. En niet alleen als je een peuter bent… De dansers in de hiphopvoorstelling Tuimel & Bounce zijn supersterren als het gaat om vallen. Gelukkig stuiteren ze ook weer terug. Een speelse voorstelling voor kinderen vanaf drie jaar waar de liefde voor de hiphopcultuur vanaf spat. \n\n\nAls kind veranderen er steeds dingen in de wereld om je heen. Van klein tot groot. Je gaat naar de opvang\, er komt een nieuw broertje of zusje of misschien hebben je ouders ruzie. Het gebeurt allemaal om je heen zonder dat je er invloed op hebt. Opgroeien is verschrikkelijk spannend. Het is vallen en opstaan. Ontdekken en uitproberen. En daar kunnen hiphoppers ook wat van. De dansers vallen\, tuimelen\, stuiteren en groeien. En het decor groeit op wonderbaarlijke wijze met hen mee. \nNa het succes van Hip Hop Hoera maakt choreografe Honey Eavis deze keer een voorstelling voor kinderen vanaf drie jaar. Met twee ijzersterke urban dansers in een ‘pop-up’ decor waar allerlei verrassingen uitpiepen en -klappen. \n“Honey Eavis laat met haar voorstelling […] zien dat hiphop ook bij jongere kinderen goed aanslaat.” – Theaterkrant \n\n
URL:https://www.uitinarnhem.nl/agenda/tuimel-bounce-danstheater-kids/
LOCATION:Musis\, Velperbinnensingel 15\, Arnhem\, 6811BP\, Nederland
CATEGORIES:Kindvriendelijk,Theater
ATTACH;FMTTYPE=image/jpeg:https://www.uitinarnhem.nl/wp-content/uploads/2021/06/website_header_aya_tuimel_en_bounce_liggend__foto_richard_beukelaar_-scaled.jpg
END:VEVENT
END:VCALENDAR