BEGIN:VCALENDAR
VERSION:2.0
PRODID:-//Uit in Arnhem - ECPv5.0.0.2//NONSGML v1.0//EN
CALSCALE:GREGORIAN
METHOD:PUBLISH
X-WR-CALNAME:Uit in Arnhem
X-ORIGINAL-URL:https://www.uitinarnhem.nl
X-WR-CALDESC:Events for Uit in Arnhem
BEGIN:VTIMEZONE
TZID:Europe/Amsterdam
BEGIN:DAYLIGHT
TZOFFSETFROM:+0100
TZOFFSETTO:+0200
TZNAME:CEST
DTSTART:20240331T010000
END:DAYLIGHT
BEGIN:STANDARD
TZOFFSETFROM:+0200
TZOFFSETTO:+0100
TZNAME:CET
DTSTART:20241027T010000
END:STANDARD
END:VTIMEZONE
BEGIN:VEVENT
DTSTART;TZID=Europe/Amsterdam:20241129T200000
DTEND;TZID=Europe/Amsterdam:20241129T220000
DTSTAMP:20260421T113539
CREATED:20241103T141752Z
LAST-MODIFIED:20241103T141752Z
UID:11377-1732910400-1732917600@www.uitinarnhem.nl
SUMMARY:Traditionele Chinese Muziek in ABC Libertas
DESCRIPTION:ABC Libertas presenteert de Folk Sessions: een maandelijks concert met traditionele muziek uit een ander land. Op 29 november staat de traditionele Chinese muziek centraal. \nSweetPotato uit Wageningen is een traditionele Chinese muziekgroep van semi-professionele en professionele muzikanten. Na een aantal jaren Chinese volksmuziek te hebben uitgevoerd op verschillende plekken in in Nederland\, richtte Shuhang Wang in 2013 SweetPotato op. De naam van de groep komt van de “sweet potato porridge” – een typisch Chinees familiegerecht – geserveerd voor het diner op de eerste avondbijeenkomst van de groep. \nSweetPotato heeft als doel om live traditionele Chinese muziek te introduceren in de Nederlandse en internationale omgeving. Ze treden op met traditionele Chinese instrumenten zoals de guzheng\, er-hu\, dizi (bamboefluit)\, pipa\, sheng\, hulusi\, qin\, bawu. Drie muzikanten uit de groep zullen als trio met zang\, qin en bamboefluit optreden tijdens deze tweede editie van de Folk Sessions in Libertas. \nPraktisch\nLive muziek bij ABC Libertas is op pay-what-you-can basis. Reserveren is niet nodig. Kom dus op tijd voor een goed plekje! \n
URL:https://www.uitinarnhem.nl/agenda/traditionele-chinese-muziek-in-abc-libertas/
LOCATION:ABC Libertas\, Klarendalseweg 477\, Arnhem
CATEGORIES:Informatief & Verrijking,Muziek
ATTACH;FMTTYPE=image/jpeg:https://www.uitinarnhem.nl/wp-content/uploads/2024/11/26df083aa0dcb9c3815268a5eca22127a3a475be-4961x3280-1.jpg
END:VEVENT
END:VCALENDAR