BEGIN:VCALENDAR
VERSION:2.0
PRODID:-//Uit in Arnhem - ECPv5.0.0.2//NONSGML v1.0//EN
CALSCALE:GREGORIAN
METHOD:PUBLISH
X-WR-CALNAME:Uit in Arnhem
X-ORIGINAL-URL:https://www.uitinarnhem.nl
X-WR-CALDESC:Events for Uit in Arnhem
BEGIN:VTIMEZONE
TZID:Europe/Amsterdam
BEGIN:DAYLIGHT
TZOFFSETFROM:+0100
TZOFFSETTO:+0200
TZNAME:CEST
DTSTART:20250330T010000
END:DAYLIGHT
BEGIN:STANDARD
TZOFFSETFROM:+0200
TZOFFSETTO:+0100
TZNAME:CET
DTSTART:20251026T010000
END:STANDARD
END:VTIMEZONE
BEGIN:VEVENT
DTSTART;TZID=Europe/Amsterdam:20250117T200000
DTEND;TZID=Europe/Amsterdam:20250117T220000
DTSTAMP:20260421T072133
CREATED:20241222T173431Z
LAST-MODIFIED:20241222T173431Z
UID:12099-1737144000-1737151200@www.uitinarnhem.nl
SUMMARY:Toontje Lager in Luxor Live
DESCRIPTION:Toontje Lager\, één van de populairste Nederlandstalige bands van begin jaren tachtig staat na meer dan dertig jaar weer op het podium. \nToontje Lager\nOnder de bezielende leiding van Erik Mesie kun je weer genieten van hits als ‘Net als in de Film’\, ‘Zoveel te doen’ en natuurlijk ‘Stiekem gedanst’. Maar ook het minder bekende repertoire komt ruimschoots aan bod zoals ‘Vroeg of laat’\, ‘Lente in Twente’\, ‘In gedachten’ en ‘Het doet pijn’. En wat te denken van het gevoelige ‘Zonder jou’ de solo hit van Erik uit 1986. \nBegin 2023 verscheen het album ‘Waar gaan we heen’\, met daarop 15 liedjes die weer typisch Toontje Lager klinken. \n
URL:https://www.uitinarnhem.nl/agenda/toontje-lager-in-luxor-live/
LOCATION:Luxor Live\, Willemsplein 10\, Arnhem\, 6811KB\, Nederland
CATEGORIES:Muziek
ATTACH;FMTTYPE=image/jpeg:https://www.uitinarnhem.nl/wp-content/uploads/2024/12/Luxor-Live_Toontje-Lager_web-1920x630-1.jpg
END:VEVENT
END:VCALENDAR