BEGIN:VCALENDAR
VERSION:2.0
PRODID:-//Uit in Arnhem - ECPv5.0.0.2//NONSGML v1.0//EN
CALSCALE:GREGORIAN
METHOD:PUBLISH
X-WR-CALNAME:Uit in Arnhem
X-ORIGINAL-URL:https://www.uitinarnhem.nl
X-WR-CALDESC:Events for Uit in Arnhem
BEGIN:VTIMEZONE
TZID:Europe/Amsterdam
BEGIN:DAYLIGHT
TZOFFSETFROM:+0100
TZOFFSETTO:+0200
TZNAME:CEST
DTSTART:20200329T010000
END:DAYLIGHT
BEGIN:STANDARD
TZOFFSETFROM:+0200
TZOFFSETTO:+0100
TZNAME:CET
DTSTART:20201025T010000
END:STANDARD
END:VTIMEZONE
BEGIN:VEVENT
DTSTART;TZID=Europe/Amsterdam:20201121T203000
DTEND;TZID=Europe/Amsterdam:20201121T220000
DTSTAMP:20260421T003126
CREATED:20201119T065422Z
LAST-MODIFIED:20201119T065423Z
UID:6269-1605990600-1605996000@www.uitinarnhem.nl
SUMMARY:Theater a/d Rijn gaat online met dansfilms Ruben Chi\, Arnhemse Meisjes & Go Short
DESCRIPTION:Theater aan de Rijn gaat op zaterdag 21 november online met twee talentvolle Arnhemse dansmakers tijdens #radicaallokaal. Dansmakers Ruben Chi en Danscollectief Arnhemse Meisjes (winnaar Arnhemse Cultuurprijs 2020) ontwikkelen zich ook in een ander medium: film. Hun dansfilms Building Bridges en een sneakpreview van Memories of the Future worden tijdens #radicaallokaal live vertoond. In samenwerking met Go Short (filmfestival voor korte films red.) wordt ook de dansfilm JUCK vertoond. Na de films kun je onder leiding van Arnhems creatief producent Selm Wenselaers in gesprek met de makers. \nOver de films\nBuilding Bridges – Ruben Chi\nEen blik in het leven van dansmaker Ruben Chi terwijl hij naar China afreist om een samenwerking aan te gaan met zijn broer Joewi\, die filmmaker is en in Beijing woont. Building Bridges verbeeldt Ruben’s visie: over het creëren van verbindingen tussen verschillende culturen en mensen. \n  \nMemories of the Future – Danscollectief Arnhemse Meisjes (sneak preview)\nDanscollectief Arnhemse Meisjes wil\, ondanks de afstand in corona-tijden\, toch dans dicht bij de mensen brengen. Via een knettersuccesvolle crowdfunding (125%!) kregen ze genoeg geld bijeen om hun idee waar te maken: de dansfilm Memories of the Future. In deze film spelen ze met de tijd\, al draaiend en dralend\, totdat het heden het enige is dat overblijft. Met muziek van Wout Kemkens (o.a. van De Niemanders en Donnerwetter)\, gefilmd door Floris Verweij. \n  \nGo Short presents: JUCK\nOlivia Kastebring\, Julia Gumpert\, Ulrika Bandeira / Documentaire / Zweden / 18’ \nJUCK is een hybride tussen documentaire\, dancefilm en fictie. De film toont de all female dansgroep JUCK die in 2013 bekend werd met een video die viral ging en wereldwijd een hit werd. JUCK provoceert\, inspireert en doorbreekt normen door de positie van object en subject te bevragen. \n#radicaallokaal \nBinnen #radicaallokaal vraagt De Nieuwe Oost makers zichzelf en hun werk opnieuw uit te vinden binnen het ‘nieuwe normaal’ van de anderhalvemetersamenleving. Iedere editie krijgt een maker of kunstenaar één week lang de vrijheid en support dit experiment in Theater a/d Rijn aan te gaan. Volledig lokaal – mét en vóór de stad. Beleef in een timeslot van een uur work in progress van opvallende makers binnen de kaders van het nu. Daarna kun je in gesprek. \n
URL:https://www.uitinarnhem.nl/agenda/theater-a-d-rijn-gaat-online-met-dansfilms-ruben-chi-arnhemse-meisjes-go-short/
LOCATION:Theater aan de Rijn\, Rijnstraat 42\, Arnhem\, 6811 EX\, Nederland
CATEGORIES:Film,Theater
ATTACH;FMTTYPE=image/jpeg:https://www.uitinarnhem.nl/wp-content/uploads/2020/11/Foto-filmopnames-Building-Bridges-De-Nieuwe-Oost-Ruben-Chi-rechtenvrij.jpg
END:VEVENT
END:VCALENDAR