BEGIN:VCALENDAR
VERSION:2.0
PRODID:-//Uit in Arnhem - ECPv5.0.0.2//NONSGML v1.0//EN
CALSCALE:GREGORIAN
METHOD:PUBLISH
X-WR-CALNAME:Uit in Arnhem
X-ORIGINAL-URL:https://www.uitinarnhem.nl
X-WR-CALDESC:Events for Uit in Arnhem
BEGIN:VTIMEZONE
TZID:Europe/Amsterdam
BEGIN:DAYLIGHT
TZOFFSETFROM:+0100
TZOFFSETTO:+0200
TZNAME:CEST
DTSTART:20240331T010000
END:DAYLIGHT
BEGIN:STANDARD
TZOFFSETFROM:+0200
TZOFFSETTO:+0100
TZNAME:CET
DTSTART:20241027T010000
END:STANDARD
END:VTIMEZONE
BEGIN:VEVENT
DTSTART;TZID=Europe/Amsterdam:20241224T220000
DTEND;TZID=Europe/Amsterdam:20241225T030000
DTSTAMP:20260421T072211
CREATED:20241121T185229Z
LAST-MODIFIED:20241121T185229Z
UID:11691-1735077600-1735095600@www.uitinarnhem.nl
SUMMARY:The Reunion in Luxor Live
DESCRIPTION:The Reunion nodigt je op kerstavond uit voor een speciale Christmas Eve R&B Singalong Edition. Zing mee met de grootste R&B hits en beleef een trip down memory lane tijdens een warme kerstavond vol classics\, gezelligheid en oude vrienden in Luxor Live! \nThe Reunion\nLaat je meeslepen op de beats uit de 90’s en early 00’s en beland in de sfeer van het iconische\, oude Luxor! Join The Reunion en dans mee op Montell Jordan\, Jay-Z\, Usher\, Beyoncé\, Foxy Brown\, Faith Evans\, TLC & many more. This Is How We Do It!\nTickets €22\,50 (early bird)\, €25\,50 (normaal). \nLine-up\nTBA \nMinimum leeftijd: 25+ \n
URL:https://www.uitinarnhem.nl/agenda/the-reunion-in-luxor-live/
LOCATION:Luxor Live\, Willemsplein 10\, Arnhem\, 6811KB\, Nederland
CATEGORIES:Muziek
ATTACH;FMTTYPE=image/jpeg:https://www.uitinarnhem.nl/wp-content/uploads/2024/11/465073143_883613300560806_5357829093075070495_n.jpg
END:VEVENT
END:VCALENDAR