BEGIN:VCALENDAR
VERSION:2.0
PRODID:-//Uit in Arnhem - ECPv5.0.0.2//NONSGML v1.0//EN
CALSCALE:GREGORIAN
METHOD:PUBLISH
X-WR-CALNAME:Uit in Arnhem
X-ORIGINAL-URL:https://www.uitinarnhem.nl
X-WR-CALDESC:Events for Uit in Arnhem
BEGIN:VTIMEZONE
TZID:Europe/Amsterdam
BEGIN:DAYLIGHT
TZOFFSETFROM:+0100
TZOFFSETTO:+0200
TZNAME:CEST
DTSTART:20200329T010000
END:DAYLIGHT
BEGIN:STANDARD
TZOFFSETFROM:+0200
TZOFFSETTO:+0100
TZNAME:CET
DTSTART:20201025T010000
END:STANDARD
END:VTIMEZONE
BEGIN:VEVENT
DTSTART;TZID=Europe/Amsterdam:20200710T220000
DTEND;TZID=Europe/Amsterdam:20200710T234500
DTSTAMP:20260421T043646
CREATED:20200623T151749Z
LAST-MODIFIED:20200623T151749Z
UID:5465-1594418400-1594424700@www.uitinarnhem.nl
SUMMARY:The Kik in Musis Arnhem
DESCRIPTION:\nThe Kik akoestisch\n\n\nKom met ONS genieten van The Kik! \n\n\nIntiem en onvergetelijk: Dave von Raven en zijn mannen spelen bij ONS in ‘semi-akoestische’ opstelling een bloemlezing uit hun volledige oeuvre. Van Simone tot Angela en van Boudewijn de Groot tot (Nederlandstalige bewerking(en)) van The Beatles. En Armand niet te vergeten. Akoestisch maar met de energie\, bravoure en humor die The Kik zo eigen maakt! Zonder ooit in te boeten aan muzikale kwaliteit. \n\n
URL:https://www.uitinarnhem.nl/agenda/the-kik-in-musis-arnhem/
LOCATION:Musis\, Velperbinnensingel 15\, Arnhem\, 6811BP\, Nederland
CATEGORIES:Muziek
ATTACH;FMTTYPE=image/jpeg:https://www.uitinarnhem.nl/wp-content/uploads/2020/06/the_kik__c__guy_kokken-scaled.jpg
END:VEVENT
END:VCALENDAR