BEGIN:VCALENDAR
VERSION:2.0
PRODID:-//Uit in Arnhem - ECPv5.0.0.2//NONSGML v1.0//EN
CALSCALE:GREGORIAN
METHOD:PUBLISH
X-WR-CALNAME:Uit in Arnhem
X-ORIGINAL-URL:https://www.uitinarnhem.nl
X-WR-CALDESC:Events for Uit in Arnhem
BEGIN:VTIMEZONE
TZID:Europe/Amsterdam
BEGIN:DAYLIGHT
TZOFFSETFROM:+0100
TZOFFSETTO:+0200
TZNAME:CEST
DTSTART:20240331T010000
END:DAYLIGHT
BEGIN:STANDARD
TZOFFSETFROM:+0200
TZOFFSETTO:+0100
TZNAME:CET
DTSTART:20241027T010000
END:STANDARD
BEGIN:DAYLIGHT
TZOFFSETFROM:+0100
TZOFFSETTO:+0200
TZNAME:CEST
DTSTART:20250330T010000
END:DAYLIGHT
BEGIN:STANDARD
TZOFFSETFROM:+0200
TZOFFSETTO:+0100
TZNAME:CET
DTSTART:20251026T010000
END:STANDARD
END:VTIMEZONE
BEGIN:VEVENT
DTSTART;TZID=Europe/Amsterdam:20240907T110000
DTEND;TZID=Europe/Amsterdam:20250105T170000
DTSTAMP:20260421T085808
CREATED:20240923T173524Z
LAST-MODIFIED:20240923T173524Z
UID:10819-1725706800-1736096400@www.uitinarnhem.nl
SUMMARY:Tentoonstelling 'Radicaal - Vrouwelijke kunstenaars en modernisme 1910-1950' in Museum Arnhem
DESCRIPTION:Foto: Rolf Hensel\nVanaf zaterdag 7 september staat Museum Arnhem in het teken van baanbrekende vrouwelijke kunstenaars. De tentoonstelling Radicaal – Vrouwelijke kunstenaars & modernisme 1910-1950 zet de spotlight op een groep kunstenaars die decennialang in de schaduw is gebleven. \nRadicaal toont aan dat de geschiedenis van de moderne kunst veel diverser is dan we denken en haalt vrouwelijke makers uit de kantlijn van de kunstgeschiedenis. In de tentoonstelling is het revolutionaire werk te zien van meer dan 60 kunstenaars uit 20 landen. De kunstwerken zijn meer dan alleen mooi om naar te kijken. Ze zijn een weerspiegeling van een tijd waarin vrouwen vochten voor gelijke rechten en een nieuwe identiteit. De kunstenaars in deze tentoonstelling gebruikten hun werk als wapen tegen sociale onrechtvaardigheid\, traditionele genderrollen en politieke onderdrukking. Van abstracte schilderijen tot textielontwerpen: ontdek de krachtige boodschappen die deze ‘vergeten’ kunstenaars ons nog steeds te vertellen hebben. \n
URL:https://www.uitinarnhem.nl/agenda/tentoonstelling-radicaal-vrouwelijke-kunstenaars-en-modernisme-1910-1950-in-museum-arnhem/
LOCATION:Museum Arnhem\, Utrechtseweg 87\, Arnhem\, Gelderland\, 6812 AA\, Nederland
CATEGORIES:Informatief & Verrijking,Tentoonstelling
ATTACH;FMTTYPE=image/jpeg:https://www.uitinarnhem.nl/wp-content/uploads/2024/09/Tentoonstelling-Radicaal-Museum-Arnhem-Rolf-Hensel-18--scaled.jpg
END:VEVENT
END:VCALENDAR