BEGIN:VCALENDAR
VERSION:2.0
PRODID:-//Uit in Arnhem - ECPv5.0.0.2//NONSGML v1.0//EN
CALSCALE:GREGORIAN
METHOD:PUBLISH
X-WR-CALNAME:Uit in Arnhem
X-ORIGINAL-URL:https://www.uitinarnhem.nl
X-WR-CALDESC:Events for Uit in Arnhem
BEGIN:VTIMEZONE
TZID:Europe/Amsterdam
BEGIN:DAYLIGHT
TZOFFSETFROM:+0100
TZOFFSETTO:+0200
TZNAME:CEST
DTSTART:20240331T010000
END:DAYLIGHT
BEGIN:STANDARD
TZOFFSETFROM:+0200
TZOFFSETTO:+0100
TZNAME:CET
DTSTART:20241027T010000
END:STANDARD
END:VTIMEZONE
BEGIN:VEVENT
DTSTART;TZID=Europe/Amsterdam:20241210T090000
DTEND;TZID=Europe/Amsterdam:20241229T170000
DTSTAMP:20260421T085507
CREATED:20241213T151453Z
LAST-MODIFIED:20241213T151944Z
UID:12003-1733821200-1735491600@www.uitinarnhem.nl
SUMMARY:Tentoonstelling 'Drukmakers' in Museum Arnhem
DESCRIPTION:Foto: OPA\nOntwerp Platform Arnhem (OPA) bestaat 20 jaar en viert dit jubileum met de tentoonstelling Drukmakers in Museum Arnhem. Deze expositie brengt een uitgebreide collectie posters van grafische talenten met Arnhemse wortels samen. De expositie is van 10 tot 29 december 2024 gratis te zien in De Koepel van het museum\, \nSinds de oprichting in 2004 biedt OPA ontwerpers de mogelijkheid posters te creëren voor de programma-avonden. Het resultaat is een kleurrijke en veelzijdige verzameling van meer dan 120 posters. Deze geven een beeld van de ontwikkeling binnen het Arnhemse designveld en het veranderende tijdsbeeld. De posters laten de dynamiek van het ontwerpvak zien en geven inzicht in de maatschappelijke thema’s die de ontwerpers de afgelopen twee decennia hebben geïnspireerd. De tentoonstelling Drukmakers biedt hiermee een reis door de creatieve diversiteit van Arnhem en toont hoe grafisch ontwerp verhalen vertelt\, verbindt en Arnhem op de kaart zet. \nOver OPA\nOntwerp Platform Arnhem (OPA) is een netwerkplatform dat het gesprek tussen ontwerpers onderling en geïnteresseerden continu prikkelt. OPA geeft hiermee een impuls aan het ontwerpklimaat in Arnhem en omstreken. \n
URL:https://www.uitinarnhem.nl/agenda/tentoonstelling-drukmakers-in-museum-arnhem/
LOCATION:Museum Arnhem\, Utrechtseweg 87\, Arnhem\, Gelderland\, 6812 AA\, Nederland
CATEGORIES:Tentoonstelling
ATTACH;FMTTYPE=image/jpeg:https://www.uitinarnhem.nl/wp-content/uploads/2024/12/Collectie-posters-van-OPA-1-scaled.jpg
END:VEVENT
END:VCALENDAR