BEGIN:VCALENDAR
VERSION:2.0
PRODID:-//Uit in Arnhem - ECPv5.0.0.2//NONSGML v1.0//EN
CALSCALE:GREGORIAN
METHOD:PUBLISH
X-WR-CALNAME:Uit in Arnhem
X-ORIGINAL-URL:https://www.uitinarnhem.nl
X-WR-CALDESC:Events for Uit in Arnhem
BEGIN:VTIMEZONE
TZID:Europe/Amsterdam
BEGIN:DAYLIGHT
TZOFFSETFROM:+0100
TZOFFSETTO:+0200
TZNAME:CEST
DTSTART:20240331T010000
END:DAYLIGHT
BEGIN:STANDARD
TZOFFSETFROM:+0200
TZOFFSETTO:+0100
TZNAME:CET
DTSTART:20241027T010000
END:STANDARD
END:VTIMEZONE
BEGIN:VEVENT
DTSTART;TZID=Europe/Amsterdam:20241226T233000
DTEND;TZID=Europe/Amsterdam:20241227T040000
DTSTAMP:20260421T073849
CREATED:20241203T191345Z
LAST-MODIFIED:20241203T191345Z
UID:11855-1735255800-1735272000@www.uitinarnhem.nl
SUMMARY:’t Weeshuis Kersteditie in Stadsvilla Sonsbeek
DESCRIPTION:’t Weeshuis is terug! Na een succesvolle editie in de Skybar van Rembrandt en meerdere edities door Arnhem keert ’t Weeshuis op tweede kerstdag terug om zijn publiek te laten inspireren\, verbinden en te feesten. Dit keer zullen ze Stadsvilla Sonsbeek omtoveren tot een club met drie area’s waar je kunt genieten van eclectische hip hop\, soul\, UK garage\, & afrosound. \nLine-up\nChamos\nSim Fane\nMik Jager\nSMP\nHosted by: Kingsta \n’t Weeshuis\nLaat je inspireren door de tofste deejays en de nieuwste sounds op een plek waar het ondergewaardeerde\, gewaardeerd wordt. ’t Weeshuis is dé spot waar liefhebbers van diverse culturen en creatieve geesten samenkomen om een buitengewone mix van geluiden\, verrassingen en unieke momenten te ervaren. Een feest door young creatives voor young creatives! \n
URL:https://www.uitinarnhem.nl/agenda/t-weeshuis-kersteditie-in-stadsvilla-sonsbeek/
LOCATION:Stadsvilla Sonsbeek\, Tellegenlaan 3\, Arnhem\, 6814BT
CATEGORIES:Muziek,Overig
ATTACH;FMTTYPE=image/jpeg:https://www.uitinarnhem.nl/wp-content/uploads/2024/12/tweeshuis_NB.jpg
END:VEVENT
END:VCALENDAR