BEGIN:VCALENDAR
VERSION:2.0
PRODID:-//Uit in Arnhem - ECPv5.0.0.2//NONSGML v1.0//EN
CALSCALE:GREGORIAN
METHOD:PUBLISH
X-WR-CALNAME:Uit in Arnhem
X-ORIGINAL-URL:https://www.uitinarnhem.nl
X-WR-CALDESC:Events for Uit in Arnhem
BEGIN:VTIMEZONE
TZID:Europe/Amsterdam
BEGIN:DAYLIGHT
TZOFFSETFROM:+0100
TZOFFSETTO:+0200
TZNAME:CEST
DTSTART:20250330T010000
END:DAYLIGHT
BEGIN:STANDARD
TZOFFSETFROM:+0200
TZOFFSETTO:+0100
TZNAME:CET
DTSTART:20251026T010000
END:STANDARD
END:VTIMEZONE
BEGIN:VEVENT
DTSTART;TZID=Europe/Amsterdam:20250608T140000
DTEND;TZID=Europe/Amsterdam:20250608T200000
DTSTAMP:20260421T101543
CREATED:20250529T151902Z
LAST-MODIFIED:20250529T152859Z
UID:13315-1749391200-1749412800@www.uitinarnhem.nl
SUMMARY:Sunday State of Mind in BLOU Rooftop Bar
DESCRIPTION:Op zondag 8 juni brengen we Ibiza vibes straight to Arnhem. Denk: zon op je gezicht\, een cocktail in je hand\, zomerse beats op de achtergrond en bubbels in de rooftop jacuzzi.\n\nEn alsof dat nog niet bijzonder genoeg is: tijdens het event maak je kans op een item uit onze exclusieve BLOU swimwear collectie. Win jij die limited edition BLOU bikini of zwembroek? \nVoor slechts €25 krijg je:\n– Een welkomstdrankje\n– Heerlijke bites\n– Toegang tot een uniek event vol good vibes & rooftop magic\n– Toegang tot de enige echte rooftop jacuzzi van Arnhem\n– Kans maken op onze exclusieve giveaway \nHet aantal plekken is beperkt\, so don’t miss out — reserve your spot now en zorg dat jij erbij bent! https://www.blourooftopbar.nl/ \n
URL:https://www.uitinarnhem.nl/agenda/sunday-state-of-mind-in-blou-rooftop-bar/
LOCATION:BLOU Rooftop Bar\, Stationsplein 1\, Arnhem\, 6811 KG
CATEGORIES:Culinair,Muziek,Overig
ATTACH;FMTTYPE=image/jpeg:https://www.uitinarnhem.nl/wp-content/uploads/2025/05/500333606_1271734931624773_693093616073250439_n.jpg
END:VEVENT
END:VCALENDAR