BEGIN:VCALENDAR
VERSION:2.0
PRODID:-//Uit in Arnhem - ECPv5.0.0.2//NONSGML v1.0//EN
CALSCALE:GREGORIAN
METHOD:PUBLISH
X-WR-CALNAME:Uit in Arnhem
X-ORIGINAL-URL:https://www.uitinarnhem.nl
X-WR-CALDESC:Events for Uit in Arnhem
BEGIN:VTIMEZONE
TZID:Europe/Amsterdam
BEGIN:DAYLIGHT
TZOFFSETFROM:+0100
TZOFFSETTO:+0200
TZNAME:CEST
DTSTART:20210328T010000
END:DAYLIGHT
BEGIN:STANDARD
TZOFFSETFROM:+0200
TZOFFSETTO:+0100
TZNAME:CET
DTSTART:20211031T010000
END:STANDARD
END:VTIMEZONE
BEGIN:VEVENT
DTSTART;TZID=Europe/Amsterdam:20210905T140000
DTEND;TZID=Europe/Amsterdam:20210905T140000
DTSTAMP:20260421T094106
CREATED:20210727T104929Z
LAST-MODIFIED:20210727T105805Z
UID:6675-1630850400-1630850400@www.uitinarnhem.nl
SUMMARY:StoryTrail stadswandeling in de Arnhemse binnenstad
DESCRIPTION:Neem een duik in de stadsgeschiedenis. Een van de verhalenvertellers van theatergezelschap Stadsavonturen neemt je mee in de rijke historie van Arnhem en vertelt bizarre\, spannende en ontroerende verhalen. Wie meewandelt komt terecht in de tijd dat Arnhem een zeer machtige stad was en hertog Karel van Gelre er de scepter zwaaide. De verteller diept verhalen op die verborgen liggen onder de muren van de Geckenpoort en het Duivelshuis. Ook heeft hij een ontmoeting geregeld met een geheimzinnige waarzegster. \nMeer informatie en tickets: www.StoryTrail.nl/stadswandeling/arnhem \n  \n
URL:https://www.uitinarnhem.nl/agenda/storytrail-stadswandeling-in-de-arnhemse-binnenstad/2021-09-05/
LOCATION:Binnenstad Arnhem
CATEGORIES:Actief,Kindvriendelijk
ATTACH;FMTTYPE=image/jpeg:https://www.uitinarnhem.nl/wp-content/uploads/2021/07/Verhalenverteller-Phileas-Foto-Storytrail.nl-002.jpg
ORGANIZER;CN="Theatergezelschap%20Stadsavonturen":MAILTO:info@stadsavonturen.nl
END:VEVENT
END:VCALENDAR