BEGIN:VCALENDAR
VERSION:2.0
PRODID:-//Uit in Arnhem - ECPv5.0.0.2//NONSGML v1.0//EN
CALSCALE:GREGORIAN
METHOD:PUBLISH
X-WR-CALNAME:Uit in Arnhem
X-ORIGINAL-URL:https://www.uitinarnhem.nl
X-WR-CALDESC:Events for Uit in Arnhem
BEGIN:VTIMEZONE
TZID:Europe/Amsterdam
BEGIN:DAYLIGHT
TZOFFSETFROM:+0100
TZOFFSETTO:+0200
TZNAME:CEST
DTSTART:20240331T010000
END:DAYLIGHT
BEGIN:STANDARD
TZOFFSETFROM:+0200
TZOFFSETTO:+0100
TZNAME:CET
DTSTART:20241027T010000
END:STANDARD
END:VTIMEZONE
BEGIN:VEVENT
DTSTART;TZID=Europe/Amsterdam:20240808T130000
DTEND;TZID=Europe/Amsterdam:20240808T200000
DTSTAMP:20260421T073847
CREATED:20240730T140858Z
LAST-MODIFIED:20240730T140858Z
UID:10161-1723122000-1723147200@www.uitinarnhem.nl
SUMMARY:Stormbaan Giant Extreme Ultra op de Markt
DESCRIPTION:Zet jij de snelste tijd neer op deze stormbaan van meer dan 140 meter? Daag jezelf uit met een adembenemende basejump\, een spannende tunnelslide\, scherpe bochten en het intense battle en adventure deel. Elk laatste kwartier is er een time-trial en in elke leeftijdscategorie zijn mooie prijzen te winnen. Speciaal voor de kleineren zijn er aparte luchtkussens. \nDatum: donderdag 8 augustus\nTijd: 13.00 – 20.00 uur \nVoor alle leeftijden! Gratis entree. \nDeze zomer bruist het van de sportevenementen en kleurt Nederland oranje! Kom in de zomervakantie naar de Markt en beleef de sport in Arnhem samen. Klik hier voor meer activiteiten op de Markt. \n
URL:https://www.uitinarnhem.nl/agenda/stormbaan-giant-extreme-ultra-op-de-markt/
LOCATION:Markt\, Markt\, Arnhem\, Nederland
CATEGORIES:Actief,Kindvriendelijk,Sport
ATTACH;FMTTYPE=image/jpeg:https://www.uitinarnhem.nl/wp-content/uploads/2024/07/20240707_stormbaan_insta.jpg
END:VEVENT
END:VCALENDAR