BEGIN:VCALENDAR
VERSION:2.0
PRODID:-//Uit in Arnhem - ECPv5.0.0.2//NONSGML v1.0//EN
CALSCALE:GREGORIAN
METHOD:PUBLISH
X-WR-CALNAME:Uit in Arnhem
X-ORIGINAL-URL:https://www.uitinarnhem.nl
X-WR-CALDESC:Events for Uit in Arnhem
BEGIN:VTIMEZONE
TZID:Europe/Amsterdam
BEGIN:DAYLIGHT
TZOFFSETFROM:+0100
TZOFFSETTO:+0200
TZNAME:CEST
DTSTART:20240331T010000
END:DAYLIGHT
BEGIN:STANDARD
TZOFFSETFROM:+0200
TZOFFSETTO:+0100
TZNAME:CET
DTSTART:20241027T010000
END:STANDARD
END:VTIMEZONE
BEGIN:VEVENT
DTSTART;TZID=Europe/Amsterdam:20241225T220000
DTEND;TZID=Europe/Amsterdam:20241226T030000
DTSTAMP:20260421T072128
CREATED:20241208T191213Z
LAST-MODIFIED:20241208T191213Z
UID:11927-1735164000-1735182000@www.uitinarnhem.nl
SUMMARY:Stille Nacht – Silent Disco in Luxor Live
DESCRIPTION:Stille Nacht is terug met een kers(t) verse editie in Luxor Live\, waarbij de grote zaal omgetoverd wordt tot de leukste Silent Disco van Gelderland! Tune in op je favoriete kanaal en dans mee op de lekkerste R&B/hiphop\, disco/house en guilty pleasures als toetje na je kerstdiner. \nDansen op drie kanalen met de fijnste tunes. Jij bepaalt zelf wat je wil horen! \nLine-up Stille Nacht – Silent Disco\nKanaal rood: r&b\, hiphop\, dancehall\nDJ Shano\nLina Roza\nNEA \nKanaal groen: guilty pleasures\n10 Again met Armand D’Angelo\nHans Wolters \nKanaal blauw: disco\, house\nMint\nRHouse\nRoos Reijmers \nGroepstickets\nKom je met een grote groep? Bestel je 4 kaarten in 1 x dan mag je voor €12\,50 p.p. mee. \n
URL:https://www.uitinarnhem.nl/agenda/stille-nacht-silent-disco-in-luxor-live/
LOCATION:Luxor Live\, Willemsplein 10\, Arnhem\, 6811KB\, Nederland
CATEGORIES:Actief,Muziek,Overig
ATTACH;FMTTYPE=image/jpeg:https://www.uitinarnhem.nl/wp-content/uploads/2024/12/231014-Stille-Nacht-21-1920x630-1.jpg
END:VEVENT
END:VCALENDAR