BEGIN:VCALENDAR
VERSION:2.0
PRODID:-//Uit in Arnhem - ECPv5.0.0.2//NONSGML v1.0//EN
CALSCALE:GREGORIAN
METHOD:PUBLISH
X-WR-CALNAME:Uit in Arnhem
X-ORIGINAL-URL:https://www.uitinarnhem.nl
X-WR-CALDESC:Events for Uit in Arnhem
BEGIN:VTIMEZONE
TZID:Europe/Amsterdam
BEGIN:DAYLIGHT
TZOFFSETFROM:+0100
TZOFFSETTO:+0200
TZNAME:CEST
DTSTART:20240331T010000
END:DAYLIGHT
BEGIN:STANDARD
TZOFFSETFROM:+0200
TZOFFSETTO:+0100
TZNAME:CET
DTSTART:20241027T010000
END:STANDARD
END:VTIMEZONE
BEGIN:VEVENT
DTSTART;TZID=Europe/Amsterdam:20240809T130000
DTEND;TZID=Europe/Amsterdam:20240809T170000
DTSTAMP:20260421T061451
CREATED:20240731T130224Z
LAST-MODIFIED:20240731T130224Z
UID:10221-1723208400-1723222800@www.uitinarnhem.nl
SUMMARY:Sterkste man van NL op de Markt
DESCRIPTION:De sterkste mannen van Nederland strijden in teams tegen elkaar in de spectaculaire onderdelen die je kent van televisie. Kom en bewonder hun kracht\, uithoudingsvermogen en doorzettingsvermogen. Mis deze spannende competitie niet en zie welk team zich tot kampioen kroont. \nDatum: vrijdag 9 augustus\nTijd: 13.00 – 17.00 uur \nVoor alle leeftijden! Gratis entree. \nDeze zomer bruist het van de sportevenementen en kleurt Nederland oranje! Kom in de zomervakantie naar de Markt en beleef de sport in Arnhem samen. Klik hier voor meer activiteiten op de Markt. \nDe Arnhemse Sportzomer ook bij jou in de wijk. \nOok komt de Arnhemse Sportzomer bij jou in de wijk\, klik hier voor het aanbod in de zomervakantie. \n
URL:https://www.uitinarnhem.nl/agenda/sterkste-man-van-nl-op-de-markt/
LOCATION:Markt\, Markt\, Arnhem\, Nederland
CATEGORIES:Kindvriendelijk,Sport
ATTACH;FMTTYPE=image/jpeg:https://www.uitinarnhem.nl/wp-content/uploads/2024/07/20240707_sterkste-man_insta.jpg
END:VEVENT
END:VCALENDAR