BEGIN:VCALENDAR
VERSION:2.0
PRODID:-//Uit in Arnhem - ECPv5.0.0.2//NONSGML v1.0//EN
CALSCALE:GREGORIAN
METHOD:PUBLISH
X-WR-CALNAME:Uit in Arnhem
X-ORIGINAL-URL:https://www.uitinarnhem.nl
X-WR-CALDESC:Events for Uit in Arnhem
BEGIN:VTIMEZONE
TZID:Europe/Amsterdam
BEGIN:DAYLIGHT
TZOFFSETFROM:+0100
TZOFFSETTO:+0200
TZNAME:CEST
DTSTART:20260329T010000
END:DAYLIGHT
BEGIN:STANDARD
TZOFFSETFROM:+0200
TZOFFSETTO:+0100
TZNAME:CET
DTSTART:20261025T010000
END:STANDARD
END:VTIMEZONE
BEGIN:VEVENT
DTSTART;TZID=Europe/Amsterdam:20260407T193000
DTEND;TZID=Europe/Amsterdam:20260407T220000
DTSTAMP:20260421T100725
CREATED:20260120T173616Z
LAST-MODIFIED:20260120T173616Z
UID:13984-1775590200-1775599200@www.uitinarnhem.nl
SUMMARY:Starsailor in Luxor Live
DESCRIPTION:Starsailor komt terug naar Luxor Live. De Britse band viert de 25e verjaardag van hun alom geprezen\, multi-platina debuutalbum Love is Here! \nStarsailor\nDe release van het album Love is Here in 2001 vestigde Starsailors reputatie als één van de spannendste nieuwe bands van Groot-Brittannië. Het album werd geprezen om de stem van James Walsh\, de lyriek en onweerstaanbare\, grootse melodieën. Love is Here verkocht wereldwijd meer dan een miljoen exemplaren en is tot nu toe meer dan 56 miljoen keer gestreamd op Spotify. \nHet belooft een bijzondere avond te worden! Voor meer informatie en tickets: https://www.luxorlive.nl/agenda/starsailor-2/ \n
URL:https://www.uitinarnhem.nl/agenda/starsailor-in-luxor-live/
LOCATION:Luxor Live\, Willemsplein 10\, Arnhem\, 6811KB\, Nederland
CATEGORIES:Muziek
ATTACH;FMTTYPE=image/jpeg:https://www.uitinarnhem.nl/wp-content/uploads/2026/01/Luxor-Live_Starsailor_web-1920x630-1.jpg
END:VEVENT
END:VCALENDAR