BEGIN:VCALENDAR
VERSION:2.0
PRODID:-//Uit in Arnhem - ECPv5.0.0.2//NONSGML v1.0//EN
CALSCALE:GREGORIAN
METHOD:PUBLISH
X-WR-CALNAME:Uit in Arnhem
X-ORIGINAL-URL:https://www.uitinarnhem.nl
X-WR-CALDESC:Events for Uit in Arnhem
BEGIN:VTIMEZONE
TZID:Europe/Amsterdam
BEGIN:DAYLIGHT
TZOFFSETFROM:+0100
TZOFFSETTO:+0200
TZNAME:CEST
DTSTART:20250330T010000
END:DAYLIGHT
BEGIN:STANDARD
TZOFFSETFROM:+0200
TZOFFSETTO:+0100
TZNAME:CET
DTSTART:20251026T010000
END:STANDARD
END:VTIMEZONE
BEGIN:VEVENT
DTSTART;TZID=Europe/Amsterdam:20250314T200000
DTEND;TZID=Europe/Amsterdam:20250315T010000
DTSTAMP:20260421T101500
CREATED:20250218T154612Z
LAST-MODIFIED:20250218T154612Z
UID:12491-1741982400-1742000400@www.uitinarnhem.nl
SUMMARY:St. Patrick's Day in Willemeen
DESCRIPTION:Met St. Patrick’s Day voor de deur is het tijd voor een goed feest\, voldoende bier en natuurlijk heerlijke livemuziek. Om de overgang naar St. Patrick’s Day zo vloeiend mogelijk te maken wordt de avond afgetrapt door rockband Rehab Rehearsal. Daarna wordt het rocken geblazen met de doedelzakrock van Vague Friday. Maggie’s Flock laat je als makke schaapjes het weekend in dansen. Als dat geen goed begin van het St. Patrick’s Day weekend is… Sláinte! \nMaggie’s Flock\nMaggie’s Flock is een zeskoppige kudde uit Nijmegen/Arnhem die stevige folkrock speelt: Een blend van traditionele Schots/Ierse folkinstrumenten als tin whistle\, fiddle en accordeon\, gemengd met een stevige rocksound van gitaar\, bas en drums. Kenmerkend zijn de vrolijke songs met vaak ironische teksten en catchy folktunes die op behoorlijk hoog tempo over het publiek worden uitgestort.\nMaggie’s Flock weet met een energieke live-set overal een feestje te bouwen. Fijne meestompers met een flinke scheut Celtic folk. \nVague Friday\nVague Friday brengt je Fresh Rock with a Folk Twist. Een fijne\, toegankelijke sound met melodieën je die je de volgende ochtend\, met je kater\, vrolijk staat te fluiten. Een mix van herkenbare covers\, eigen nummers en een hoop aanstekelijk enthousiasme maken samen een vage avond die je snel nog eens over wilt doen. Cause every Friday is a Vague Friday. \nRehab Rehearsal\nCreativiteit laat zich op geen enkele wijze inperken. De alternatieve rockband Rehab Rehearsal bewijst dat.\nDe gezamenlijke aversie om covers te spelen dreef vier creatieve geesten in elkaars armen. Hun doel: Eigen muziek maken met een rauwe rand waarbij iedereen uit zijn dak gaat! \nTickets\nPre-sale: €8\,00\nDoor: €10\,00 \n  \n
URL:https://www.uitinarnhem.nl/agenda/st-patricks-day-in-willemeen/
LOCATION:Willemeen\, Willemsplein 1\, Arnhem\, 6811 KA\, Nederland
CATEGORIES:Muziek
ATTACH;FMTTYPE=image/jpeg:https://www.uitinarnhem.nl/wp-content/uploads/2025/02/2025021820311-6087-700x990-1.jpg
END:VEVENT
END:VCALENDAR