BEGIN:VCALENDAR
VERSION:2.0
PRODID:-//Uit in Arnhem - ECPv5.0.0.2//NONSGML v1.0//EN
CALSCALE:GREGORIAN
METHOD:PUBLISH
X-WR-CALNAME:Uit in Arnhem
X-ORIGINAL-URL:https://www.uitinarnhem.nl
X-WR-CALDESC:Events for Uit in Arnhem
BEGIN:VTIMEZONE
TZID:Europe/Amsterdam
BEGIN:DAYLIGHT
TZOFFSETFROM:+0100
TZOFFSETTO:+0200
TZNAME:CEST
DTSTART:20240331T010000
END:DAYLIGHT
BEGIN:STANDARD
TZOFFSETFROM:+0200
TZOFFSETTO:+0100
TZNAME:CET
DTSTART:20241027T010000
END:STANDARD
END:VTIMEZONE
BEGIN:VEVENT
DTSTART;TZID=Europe/Amsterdam:20240806T200000
DTEND;TZID=Europe/Amsterdam:20240806T220000
DTSTAMP:20260421T101507
CREATED:20240730T134259Z
LAST-MODIFIED:20240730T134259Z
UID:10149-1722974400-1722981600@www.uitinarnhem.nl
SUMMARY:Sportpubquiz op de Markt
DESCRIPTION:Doe mee aan de ultieme sportpubquiz powered by Slimmer Presteren Podcast in het beachstadion! Test je kennis in verschillende rondes terwijl je met je team op de tribune of in een luxe VIP-box zit. Geniet van de DJ die voor de perfecte sfeer zorgt en maak kans op geweldige prijzen. Een avond vol plezier\, competitie en muziek die je niet wilt missen! \nInschrijven \nDatum: dinsdag 6 augustus\nTijd: 20.00 – 22.00 uur \nVoor alle leeftijden! Gratis entree. \nOpgeven kan individueel of als team van tenminste 3 personen (met minimaal 1 volwassene). Uiterlijk een week voor het evenement ontvang je meer informatie. \nDeze zomer bruist het van de sportevenementen en kleurt Nederland oranje! Kom in de zomervakantie naar de Markt en beleef de sport in Arnhem samen. Klik hier voor meer activiteiten op de Markt. \n
URL:https://www.uitinarnhem.nl/agenda/sportpubquiz-op-de-markt/
LOCATION:Markt\, Markt\, Arnhem\, Nederland
CATEGORIES:Actief,Kindvriendelijk
ATTACH;FMTTYPE=image/jpeg:https://www.uitinarnhem.nl/wp-content/uploads/2024/07/20240707_Sportpubquiz_insta.jpg
END:VEVENT
END:VCALENDAR