BEGIN:VCALENDAR
VERSION:2.0
PRODID:-//Uit in Arnhem - ECPv5.0.0.2//NONSGML v1.0//EN
CALSCALE:GREGORIAN
METHOD:PUBLISH
X-WR-CALNAME:Uit in Arnhem
X-ORIGINAL-URL:https://www.uitinarnhem.nl
X-WR-CALDESC:Events for Uit in Arnhem
BEGIN:VTIMEZONE
TZID:Europe/Amsterdam
BEGIN:DAYLIGHT
TZOFFSETFROM:+0100
TZOFFSETTO:+0200
TZNAME:CEST
DTSTART:20240331T010000
END:DAYLIGHT
BEGIN:STANDARD
TZOFFSETFROM:+0200
TZOFFSETTO:+0100
TZNAME:CET
DTSTART:20241027T010000
END:STANDARD
END:VTIMEZONE
BEGIN:VEVENT
DTSTART;TZID=Europe/Amsterdam:20241121T183000
DTEND;TZID=Europe/Amsterdam:20241121T223000
DTSTAMP:20260421T105630
CREATED:20241111T181444Z
LAST-MODIFIED:20241111T181444Z
UID:11529-1732213800-1732228200@www.uitinarnhem.nl
SUMMARY:Sport en Film Festival in Rembrandt Theater Arnhem
DESCRIPTION:Op een iconische plek in Arnhem – het Rembrandt Theater – organiseert Sportbedrijf Arnhem samen met toonaangevende partners het Sport en Film Festival. \nOp donderdag 21 en vrijdag 22 november ademt het theater de sfeer van sport\, bewegen\, ontmoeten en film. Meld je aan en kom ook bewegen en samen met andere sportieve Arnhemmers inspiratie opdoen. \nProgramma donderdag 21 november > 18.30 deuren open \nZaal 1\n19.30 uur | Uitreiking Sportster \n20.00 – 22.00 uur \n\nTafelgesprek Vitesse Inside X Arnhem Sports met: Edwin Reijntjes\, Edward Sturing\, Susanne Wichhart en Jan Streuer\nBBC-documentaire: Bury Bringing Football Back\nQ&A\n\nZaal 4\n19.30 – 20.30 | Kickboxing Arnhem | demo en clinic\n20.30 – 21.00 | NIVM | Vuist tegen discriminatie\n21.00 – 22.00 | Kendo Kai Higashi | demo en clinic \nZaal 5 en foyer\n19.30 – 20.30 uur | Demo Schermvereniging Scaramouche \nTickets kosten €7\,50 en zijn te koop via https://rembrandtarnhem.com/\nMeer informatie over het programma: https://www.sportbedrijfarnhem.nl/sportfilmfestival \n
URL:https://www.uitinarnhem.nl/agenda/sport-en-film-festival-in-rembrandt-theater-arnhem/
LOCATION:Rembrandt Theater\, Velperplein 10\, Arnhem
CATEGORIES:Film,Informatief & Verrijking,Sport
ATTACH;FMTTYPE=image/png:https://www.uitinarnhem.nl/wp-content/uploads/2024/11/Sportbedrijf-Arnhem-Sport-en-Film-festival-Landscape.png
END:VEVENT
END:VCALENDAR