BEGIN:VCALENDAR
VERSION:2.0
PRODID:-//Uit in Arnhem - ECPv5.0.0.2//NONSGML v1.0//EN
CALSCALE:GREGORIAN
METHOD:PUBLISH
X-WR-CALNAME:Uit in Arnhem
X-ORIGINAL-URL:https://www.uitinarnhem.nl
X-WR-CALDESC:Events for Uit in Arnhem
BEGIN:VTIMEZONE
TZID:Europe/Amsterdam
BEGIN:DAYLIGHT
TZOFFSETFROM:+0100
TZOFFSETTO:+0200
TZNAME:CEST
DTSTART:20200329T010000
END:DAYLIGHT
BEGIN:STANDARD
TZOFFSETFROM:+0200
TZOFFSETTO:+0100
TZNAME:CET
DTSTART:20201025T010000
END:STANDARD
END:VTIMEZONE
BEGIN:VEVENT
DTSTART;TZID=Europe/Amsterdam:20200223T140000
DTEND;TZID=Europe/Amsterdam:20200223T140000
DTSTAMP:20260421T072217
CREATED:20200129T143922Z
LAST-MODIFIED:20200129T145217Z
UID:4978-1582466400-1582466400@www.uitinarnhem.nl
SUMMARY:Spannende vertelwandeling door de stad
DESCRIPTION:De mooiste en spannendste verhalen uit de geschiedenis van Arnhem komen op zondag 23 februari tot leven. Acteur Phileas neemt je tijdens de StoryTrail stadswandeling mee naar het donkere verleden van de stad.  Eeuwenoude verhalen brengt hij tot leven. Je komt terecht in een stad vol prachtige sagen en legenden over liefde\, macht\, list en strijd. Je ontmoet sluwe politici\, keiharde veldheren\, een geheimzinnige waarzegster én de legendarische hertog Karel van Gelre\, die in Arnhem zijn hoofdkwartier had. Slenter door straten en stegen\, verdwaal in lang vervlogen stadsverhalen en bewonder de helden van vroeger \n
URL:https://www.uitinarnhem.nl/agenda/spannende-vertelwandeling-door-de-stad/
LOCATION:Kortestraat 17\, Arnhem\, Kortestraat 17\, Arnhem\, 6811EP\, Nederland
CATEGORIES:Actief,Kindvriendelijk
ATTACH;FMTTYPE=image/jpeg:https://www.uitinarnhem.nl/wp-content/uploads/2020/01/Verhalenverteller-Phileas-Foto-Storytrail.nl_-e1580308672216.jpg
END:VEVENT
END:VCALENDAR