BEGIN:VCALENDAR
VERSION:2.0
PRODID:-//Uit in Arnhem - ECPv5.0.0.2//NONSGML v1.0//EN
CALSCALE:GREGORIAN
METHOD:PUBLISH
X-WR-CALNAME:Uit in Arnhem
X-ORIGINAL-URL:https://www.uitinarnhem.nl
X-WR-CALDESC:Events for Uit in Arnhem
BEGIN:VTIMEZONE
TZID:Europe/Amsterdam
BEGIN:DAYLIGHT
TZOFFSETFROM:+0100
TZOFFSETTO:+0200
TZNAME:CEST
DTSTART:20260329T010000
END:DAYLIGHT
BEGIN:STANDARD
TZOFFSETFROM:+0200
TZOFFSETTO:+0100
TZNAME:CET
DTSTART:20261025T010000
END:STANDARD
END:VTIMEZONE
BEGIN:VEVENT
DTSTART;TZID=Europe/Amsterdam:20260625T160000
DTEND;TZID=Europe/Amsterdam:20260628T220000
DTSTAMP:20260420T234715
CREATED:20250504T164503Z
LAST-MODIFIED:20260411T114300Z
UID:13207-1782403200-1782684000@www.uitinarnhem.nl
SUMMARY:SonsbeekProeft! in Park Sonsbeek
DESCRIPTION:SonsbeekProeft!\nSonsbeekProeft is de vernieuwde editie van het culinaire evenement dat Arnhem jarenlang kende als ArnhemProeft. Met een nieuwe naam en een andere organisatie bouwen we voort op een sterk fundament en voegen we culinaire verbinding en Arnhemse trots toe. \nCulinair smaakfestival voor fijnproevers en levensgenieters\nIn de heerlijke groene omgeving van Park Sonsbeek\, met een prachtig wijds uitzicht over het Arnhemse\, zullen dit jaar weer tientallen keukens uit de Arnhemse horeca zich presenteren\, de mooiste en lekkerste gerechten laten proeven en de lekkerste drankjes schenken. Arnhem zet zichtzelf in de etalage. \nVier dagen SonsbeekProeft! \nVier dagen lang brengt SonsbeekProeft de beste eetgelegenheden samen in Park Sonsbeek. Ontdek nieuwe smaken\, ontmoet de chefs en laat je verrassen door de mooiste culinaire plekken van de stad. \nLive muziek\, dans en performance\nSonsbeekProeft draait niet alleen om smaak\, maar ook om sfeer. Tijdens het event hebben we één stage waar iedereen samen geniet van een gezellige programmering en waar de sfeer gedurende de dag vanzelf groeit \nOpeningstijden 2026 \n25 juni 2026         16:00 – 00:00\n26 juni 2026          16:00 – 00:00\n27 juni 2026          14:00 – 00:00\n28 juni 2026          14:00 – 22:00 \n  \n
URL:https://www.uitinarnhem.nl/agenda/sonsbeekproeft-in-park-sonsbeek-arnhem/
LOCATION:Sonsbeekpark\, Tellegenlaan 3\, Arnhem\, 6814BT
CATEGORIES:Culinair,Festival
ATTACH;FMTTYPE=image/jpeg:https://www.uitinarnhem.nl/wp-content/uploads/2025/05/SonsbeekProeft.jpg
END:VEVENT
END:VCALENDAR