BEGIN:VCALENDAR
VERSION:2.0
PRODID:-//Uit in Arnhem - ECPv5.0.0.2//NONSGML v1.0//EN
CALSCALE:GREGORIAN
METHOD:PUBLISH
X-WR-CALNAME:Uit in Arnhem
X-ORIGINAL-URL:https://www.uitinarnhem.nl
X-WR-CALDESC:Events for Uit in Arnhem
BEGIN:VTIMEZONE
TZID:Europe/Amsterdam
BEGIN:DAYLIGHT
TZOFFSETFROM:+0100
TZOFFSETTO:+0200
TZNAME:CEST
DTSTART:20240331T010000
END:DAYLIGHT
BEGIN:STANDARD
TZOFFSETFROM:+0200
TZOFFSETTO:+0100
TZNAME:CET
DTSTART:20241027T010000
END:STANDARD
END:VTIMEZONE
BEGIN:VEVENT
DTSTART;TZID=Europe/Amsterdam:20240414T130000
DTEND;TZID=Europe/Amsterdam:20240414T173000
DTSTAMP:20260421T034603
CREATED:20240320T151708Z
LAST-MODIFIED:20240320T151830Z
UID:8453-1713099600-1713115800@www.uitinarnhem.nl
SUMMARY:Sonsbeek Lentefestival
DESCRIPTION:Vier de lente tijdens het Sonsbeek Lentefestival!\n\nHet feestjaar 125 jaar Park Sonsbeek wordt ingeluid op zondag 14 april met een nieuwe editie van het Sonsbeek Lentefestival. Net als voorgaande jaren is het festival gratis toegankelijk en kan je op 6 locaties genieten van live muziek met een Arnhems tintje.\nDe artiesten spelen toegankelijke muziek die goed past bij de sfeer van de eerste lentedagen.\n\nLOCATIES & LINE-UP:\n\nKetelhuis Sonsbeek: The Janssen Family\nBrasserie de Boerderij: Lara Leaves\nSonsbeek Paviljoen: The Charlestown Jazzband\nGrand Café aan de Beek: The Tributes\nStadsvilla Sonsbeek: De Platenbus\nMolenplaats Sonsbeek: Two ladies & a gentleman\n\nBEREIKBAARHEID:\nTijdens festiviteiten in Park Sonsbeek kan het erg druk zijn. Wij raden je aan om met het openbaar vervoer\, fiets of te voet te komen.\n\nMeer info: www.sonsbeekagenda.nl\n
URL:https://www.uitinarnhem.nl/agenda/sonsbeek-lentefestival/
LOCATION:Sonsbeekpark\, Tellegenlaan 3\, Arnhem\, 6814BT
CATEGORIES:Festival
ATTACH;FMTTYPE=image/jpeg:https://www.uitinarnhem.nl/wp-content/uploads/2024/03/Sonsbeek-Lentefestival.jpg
END:VEVENT
END:VCALENDAR