BEGIN:VCALENDAR
VERSION:2.0
PRODID:-//Uit in Arnhem - ECPv5.0.0.2//NONSGML v1.0//EN
CALSCALE:GREGORIAN
METHOD:PUBLISH
X-WR-CALNAME:Uit in Arnhem
X-ORIGINAL-URL:https://www.uitinarnhem.nl
X-WR-CALDESC:Events for Uit in Arnhem
BEGIN:VTIMEZONE
TZID:Europe/Amsterdam
BEGIN:DAYLIGHT
TZOFFSETFROM:+0100
TZOFFSETTO:+0200
TZNAME:CEST
DTSTART:20240331T010000
END:DAYLIGHT
BEGIN:STANDARD
TZOFFSETFROM:+0200
TZOFFSETTO:+0100
TZNAME:CET
DTSTART:20241027T010000
END:STANDARD
END:VTIMEZONE
BEGIN:VEVENT
DTSTART;TZID=Europe/Amsterdam:20241123T100000
DTEND;TZID=Europe/Amsterdam:20241201T160000
DTSTAMP:20260421T093706
CREATED:20241121T182208Z
LAST-MODIFIED:20241121T182208Z
UID:11683-1732356000-1733068800@www.uitinarnhem.nl
SUMMARY:Sinterklaaskelders Arnhem
DESCRIPTION:Sinterklaas komt terug naar de Historische Kelders in Arnhem! Kom naar de Sinterklaaskelders\, ontmoet de pieten en neem een kijkje in de vertrekken van Sinterklaas! Tussen zaterdag 23 november en zondag 1 december zijn de Sinterklaaskelders geopend en kun jij op bezoek bij Sint en de Pieten. \nOnder leiding van de Huispiet zijn de kelders de afgelopen tijd ingericht. In 15 verschillende ruimtes bakken Pieten pepernoten\, schrijven ze gedichten en pakken ze cadeautjes in. Er zijn ook kelders waar kinderen de stal van Ozosnel\, het paard van Sinterklaas\, kunnen bekijken of de slaapkamers van de Pieten en Sint. Je kunt er leren hoe je pepernoten in een schoen moet gooien\, over een dakrand balanceren of kadootjes door verschillende schoorstenen werpen\, én hoe je moet dansen als een echte Piet!. \nWil jij ontdekken wat Pieten overdag allemaal doen en de Pietendans leren? Wil je Sinterklaas ontmoeten\, zodat je hem een tekening kunt geven en vertellen welk cadeautje jij graag zou willen dit jaar? Kom tijdens de Sinterklaasperiode op bezoek in de Sinterklaaskelders in Arnhem en behaal je Pietendiploma! \nData / tijden:\nZaterdag 23 november 10.00 tot 16.00 uur\nZondag 24 november 10.00 tot 16.00 uur\nZaterdag 30 november 10.00 tot 16.00 uur\nZondag 1 december 10.00 tot 16.00 uur \nKosten:\n– vijf euro per persoon voor iedereen boven de twee jaar\n– gratis voor kids onder twee jaar\n– tickets via https://mijn.devloer.nu/tickets/sint \nLocatie\nHistorische Kelders Arnhem\nOude Oeverstraat 4A\, 6811 JX Arnhem \n
URL:https://www.uitinarnhem.nl/agenda/sinterklaaskelders-arnhem/
LOCATION:Historische Kelders\, Oude Oeverstraat 4A\, Arnhem\, 6811 JX\, Nederland
CATEGORIES:Actief,Kindvriendelijk
ATTACH;FMTTYPE=image/png:https://www.uitinarnhem.nl/wp-content/uploads/2024/11/website-banner-sk-1382933681_01931bcb-aa1b-734c-9275-648840074ab0.png
END:VEVENT
END:VCALENDAR