BEGIN:VCALENDAR
VERSION:2.0
PRODID:-//Uit in Arnhem - ECPv5.0.0.2//NONSGML v1.0//EN
CALSCALE:GREGORIAN
METHOD:PUBLISH
X-WR-CALNAME:Uit in Arnhem
X-ORIGINAL-URL:https://www.uitinarnhem.nl
X-WR-CALDESC:Events for Uit in Arnhem
BEGIN:VTIMEZONE
TZID:Europe/Amsterdam
BEGIN:DAYLIGHT
TZOFFSETFROM:+0100
TZOFFSETTO:+0200
TZNAME:CEST
DTSTART:20240331T010000
END:DAYLIGHT
BEGIN:STANDARD
TZOFFSETFROM:+0200
TZOFFSETTO:+0100
TZNAME:CET
DTSTART:20241027T010000
END:STANDARD
END:VTIMEZONE
BEGIN:VEVENT
DTSTART;TZID=Europe/Amsterdam:20241116T153000
DTEND;TZID=Europe/Amsterdam:20241116T193000
DTSTAMP:20260421T055627
CREATED:20241113T094952Z
LAST-MODIFIED:20241113T094952Z
UID:11569-1731771000-1731785400@www.uitinarnhem.nl
SUMMARY:Sinterklaasintocht Arnhem
DESCRIPTION:Hij komt! Op 16 november zetten Spanje’s beroemdste inwoners\, Sinterklaas en zijn Pieten\, weer voet aan land op de Rijnkade in Arnhem. Ook dit jaar met natuurlijk weer honderden kilo’s pepernoten en een schip vol cadeaus voor in de schoen. Het voorprogramma om Sinterklaas naar de kade toe te zingen start om 15:30. \nAls dat goed gaat tenminste. Want sinds maandagavond zit iedereen weer aan de buis gekluisterd om de altijd wat problematische overtocht van de Sint naar Nederland te bekijken… maar dan moet hij ook nog snel door naar Arnhem! En laat daar nou bijna de hele Rijnkade opgebroken te zijn! Bijna – want precies het stukje waar de pakjesboot 026 elk jaar aanleg ligt er nog. Nu maar hopen dat dat deze week ook zo blijft. Dan zal De Sint om 16:15 aankomen en om 16:45 op zijn schimmel stappen. Vervolgens zal hij vanaf de kade met de hele goedgeluimde Spaanse stoet door de schemer van de schilderachtig verlichte Arnhemse binnenstad trekken\, waar ze op meerdere plekken even halt zullen houden om de kinderen nog uitgebreider te kunnen begroeten\, om iets na zessen te eindigen bij de Eusebiuskerk. \nDaar eindigt de intocht tussen 18.30 en 19.40 met een meet & greet met het Spaanse gevolg in de Eusbiuskerk\, waar de kwieke Spaanse Bisschop zich nogal thuis voelt. Als alles zoals elk jaar uiteindelijk toch weer goed komt! \nDe feestelijke aankomst van het Spaanse gezelschap wordt voor zoveel mogelijk kinderen toegankelijk gemaakt. Aan de Kade zal ondanks dat de lage kade niet bereikbaar is voor rolstoelgebruikers toch een podium worden gerealiseerd aan de bovenkant van het talud vanwaar de aankomst goed te zien is. Er is in het kadeprogramma een gebarentolk-piet aanwezig vlak bij de Sint als hij aankomt en de kinderen toespreekt. In de optocht loopt een duidelijk aan zijn groene sjerp herkenbare gluten (en lactose)-vrije Piet mee zodat iedereen kan snoepen. De Hoogstraat is een prikkelarm gedeelte\, hier zal de stoet het even wat stiller doen voor de prikkelgevoelige kinderen. Het Spaanse gezelschap hoopt op die manier zoveel mogelijk kinderen én hun ouders blij te maken en te zien\, in een hopelijk oergezellige\, door prachtige etalages versierde Arnhemse binnenstad. \nAlle ins en outs\, de route\, stopplekken en bijzonderheden zijn te vinden op: https://sintarnhem.nl \n
URL:https://www.uitinarnhem.nl/agenda/sinterklaasintocht-arnhem/
LOCATION:Rijnkade\, Rijnkade\, Arnhem\, Nederland
CATEGORIES:Kindvriendelijk,Overig
ATTACH;FMTTYPE=image/jpeg:https://www.uitinarnhem.nl/wp-content/uploads/2024/11/Sinterklaasintocht-Arnhem-2022-PP-273-2.jpg
END:VEVENT
END:VCALENDAR