BEGIN:VCALENDAR
VERSION:2.0
PRODID:-//Uit in Arnhem - ECPv5.0.0.2//NONSGML v1.0//EN
CALSCALE:GREGORIAN
METHOD:PUBLISH
X-WR-CALNAME:Uit in Arnhem
X-ORIGINAL-URL:https://www.uitinarnhem.nl
X-WR-CALDESC:Events for Uit in Arnhem
BEGIN:VTIMEZONE
TZID:Europe/Amsterdam
BEGIN:DAYLIGHT
TZOFFSETFROM:+0100
TZOFFSETTO:+0200
TZNAME:CEST
DTSTART:20240331T010000
END:DAYLIGHT
BEGIN:STANDARD
TZOFFSETFROM:+0200
TZOFFSETTO:+0100
TZNAME:CET
DTSTART:20241027T010000
END:STANDARD
END:VTIMEZONE
BEGIN:VEVENT
DTSTART;TZID=Europe/Amsterdam:20240324T140000
DTEND;TZID=Europe/Amsterdam:20240324T180000
DTSTAMP:20260421T044854
CREATED:20240312T134705Z
LAST-MODIFIED:20240312T134706Z
UID:8301-1711288800-1711303200@www.uitinarnhem.nl
SUMMARY:Singer-songwriter Sunday bij Huis van Puck
DESCRIPTION:Zondag\, een dag om te luieren\, relaxen\, hangen\, gezellig samen te komen. Dat is precies wat wij gaan doen tijdens deze Singer-songwriter Sunday. Onder het genot van een drankje je weekend afsluiten en weer even opladen voor de maandag\, terwijl je luistert naar fijne muziek. Klinkt goed toch? Dat dachten wij ook! Deze zondag staan 3 singer-songwriters op het podium van Pucks Theatercafé om je te voorzien van de perfecte soundtrack van jouw zondagmiddag. \nPoems Ago\nMuzikaal duo Juliana Hahn (IE) en Remco Jacobs (NL) dat Ierse poëzie op muziek zet. Ondanks dat hun artiestennaam anders doet vermoeden\, zingen ze zowel poëzie van eerdere Ierse dichters zoals W.B Yeats\, James Joyce en Oscar Wilde als het werk van hedendaagse dichters zoals Sinead Morrisey en Lucinda Jacob. Poems Ago heeft een uniek geluid\, balancerend tussen klassieke en folky klanken. Met viool\, gitaar en stem brengen ze de gedichten ten gehore en nemen ze je mee op reis door het Ierse landschap van de poëzie. \n(foto: Remy Schuitemaker) \nIllusid\nIllusid is een duo dat covers speelt. Verschillende genres\, met zang van Pomme en gitaar gespeeld door Jakob. Het liefst spelen ze jazz-standards\, maar je hoort genoeg variaties van genres en dat maakt ze absoluut niet-saai! \nBloody Driver Roel\nAl sinds eind jaren 70 zingt Roeland Lamers\, geheel naar de tijdgeest\, in diverse punk- en garagerock bands. Zijn muzikale smaak evolueert. Nu zijn het grootheden als Johnny Cash\, Fred Mc Dowell en Charlie Feathers die hem inspireren. Bloody Driver Roel heeft een solorepertoire met een mix van country\, blues\, rock-‘n-roll en pop. \nEntree: €3\,- maar meer mag; alles komt uiteindelijk bij de artiesten terecht! \n
URL:https://www.uitinarnhem.nl/agenda/singer-songwriter-sunday-bij-huis-van-puck/
LOCATION:Huis van Puck\, Kazerneplein 6-2\, Arnhem\, Nederland\, 6822ET\, Nederland
CATEGORIES:Muziek
ATTACH;FMTTYPE=image/png:https://www.uitinarnhem.nl/wp-content/uploads/2024/03/Huis-van-Puck-Remy-Schuitemaker.png
END:VEVENT
END:VCALENDAR