BEGIN:VCALENDAR
VERSION:2.0
PRODID:-//Uit in Arnhem - ECPv5.0.0.2//NONSGML v1.0//EN
CALSCALE:GREGORIAN
METHOD:PUBLISH
X-WR-CALNAME:Uit in Arnhem
X-ORIGINAL-URL:https://www.uitinarnhem.nl
X-WR-CALDESC:Events for Uit in Arnhem
BEGIN:VTIMEZONE
TZID:Europe/Amsterdam
BEGIN:DAYLIGHT
TZOFFSETFROM:+0100
TZOFFSETTO:+0200
TZNAME:CEST
DTSTART:20250330T010000
END:DAYLIGHT
BEGIN:STANDARD
TZOFFSETFROM:+0200
TZOFFSETTO:+0100
TZNAME:CET
DTSTART:20251026T010000
END:STANDARD
END:VTIMEZONE
BEGIN:VEVENT
DTSTART;TZID=Europe/Amsterdam:20250428T193000
DTEND;TZID=Europe/Amsterdam:20250428T230000
DTSTAMP:20260421T124929
CREATED:20250312T172404Z
LAST-MODIFIED:20250312T172404Z
UID:12611-1745868600-1745881200@www.uitinarnhem.nl
SUMMARY:Simultaan schaken met Jan Timman op Sportpark Schuytgraaf
DESCRIPTION:Op maandag 28 April 2025 organiseert Schaakvereniging De Toren (Arnhem-Zuid) in de Schuytgraaf\, weer de unieke simultaanschaak met de legendarische grootmeester Jan Timman. \nSpeelgerechtigd zijn de clubleden van De Toren en enthousiaste schakers uit Arnhem-Zuid en verre omgeving. Ook de gevorderde thuis-schakers zijn van harte welkom. Als je niet wilt deelnemen maar toch graag de partijen wilt zien\, dan kan dat uiteraard! \n‘Best of the West’ Jan Timman (Amsterdam\, 14 december 1951)\, zoon van twee wiskundigen\, is met oud-wereldkampioen Max Euwe de vaandeldrager van het Nederlandse schaken. In zijn hoogtijdagen stond hij bekend als ‘the best of the West’\, tussen tal van spelers uit de toenmalige Sovjet-Unie. In 1982 steeg Timman naar de tweede plaats op de wereldranglijst\, achter de ongenaakbare Rus Anatoli Karpov. Timman werd negen keer nationaal kampioen en won tal van toernooien. Hij speelt nu competitie in Köln Porz (Duitsland) en Wageningen. Zijn Elo-rating\, waarmee de sterkte van de schaker wordt aangegeven\, is nu 2576\, maar was ooit 2680. \nHet simultaan schaken vindt plaats op Sportpark Schuytgraaf aan de Marasingel 251 te Arnhem. Zaal open 19:30 uur. \nInschrijven eventueel onder vermelding van naam en ratingsterkte via de mail\, aan de voorzitter@schaakverenigingdetoren.nl\nLET OP inschrijving stopt bij maximaal 32 deelnemers. De kosten voor deelname zijn € 7\,50 \n
URL:https://www.uitinarnhem.nl/agenda/simultaan-schaken-met-jan-timman-op-sportpark-schuytgraaf/
LOCATION:Sportpark Schuytgraaf\, Marasingel 251\, Arnhem\, 6846 DX\, Nederland
CATEGORIES:Actief,Sport
ATTACH;FMTTYPE=image/jpeg:https://www.uitinarnhem.nl/wp-content/uploads/2025/03/FB_IMG_1741798547998.jpg
END:VEVENT
END:VCALENDAR