BEGIN:VCALENDAR
VERSION:2.0
PRODID:-//Uit in Arnhem - ECPv5.0.0.2//NONSGML v1.0//EN
CALSCALE:GREGORIAN
METHOD:PUBLISH
X-WR-CALNAME:Uit in Arnhem
X-ORIGINAL-URL:https://www.uitinarnhem.nl
X-WR-CALDESC:Events for Uit in Arnhem
BEGIN:VTIMEZONE
TZID:Europe/Amsterdam
BEGIN:DAYLIGHT
TZOFFSETFROM:+0100
TZOFFSETTO:+0200
TZNAME:CEST
DTSTART:20250330T010000
END:DAYLIGHT
BEGIN:STANDARD
TZOFFSETFROM:+0200
TZOFFSETTO:+0100
TZNAME:CET
DTSTART:20251026T010000
END:STANDARD
END:VTIMEZONE
BEGIN:VEVENT
DTSTART;TZID=Europe/Amsterdam:20250313T193000
DTEND;TZID=Europe/Amsterdam:20250313T220000
DTSTAMP:20260421T072215
CREATED:20250303T164904Z
LAST-MODIFIED:20250303T164904Z
UID:12559-1741894200-1741903200@www.uitinarnhem.nl
SUMMARY:Rick de Leeuw in Luxor Live
DESCRIPTION:Rick de Leeuw is een Nederlands fenomeen! Hij schrijft romans\, gedichten\, manifesteert zich op radio en televisie en is op het podium nog altijd een jaloersmakend energieke rockzanger. In 1990 brak hij met zijn band Tröckener Kecks door bij het grote publiek met de single ‘Met Hart & Ziel’. Hoewel de Kecks in 2001 stopten\, is Rick vol passie doorgegaan met het uitbrengen van albums. \nRick de Leeuw\nZijn nieuwe album “Het Komt Allemaal Goed” zit vol levenslust en rauwe energie\, net zoals de liveshows van hem en zijn band. Voor de twaalf nummers van het album haalde De Leeuw zijn inspiratie uit de schitterende kunstcollectie van de Phoebus Foundation\, die weinigen te zien krijgen. Het nieuwe album komt in begin 2025 uit en daar hoort natuurlijk een optreden bij! Naast dit nieuwe materiaal zal hij natuurlijk ook een woeste greep uit zijn oudere repertoire doen. \n
URL:https://www.uitinarnhem.nl/agenda/rick-de-leeuw-in-luxor-live/
LOCATION:Luxor Live\, Willemsplein 10\, Arnhem\, 6811KB\, Nederland
CATEGORIES:Muziek
ATTACH;FMTTYPE=image/jpeg:https://www.uitinarnhem.nl/wp-content/uploads/2025/03/Luxor-Live_Rick-de-Leeuw_web-1920x630-1.jpg
END:VEVENT
END:VCALENDAR