BEGIN:VCALENDAR
VERSION:2.0
PRODID:-//Uit in Arnhem - ECPv5.0.0.2//NONSGML v1.0//EN
CALSCALE:GREGORIAN
METHOD:PUBLISH
X-WR-CALNAME:Uit in Arnhem
X-ORIGINAL-URL:https://www.uitinarnhem.nl
X-WR-CALDESC:Events for Uit in Arnhem
BEGIN:VTIMEZONE
TZID:Europe/Amsterdam
BEGIN:DAYLIGHT
TZOFFSETFROM:+0100
TZOFFSETTO:+0200
TZNAME:CEST
DTSTART:20200329T010000
END:DAYLIGHT
BEGIN:STANDARD
TZOFFSETFROM:+0200
TZOFFSETTO:+0100
TZNAME:CET
DTSTART:20201025T010000
END:STANDARD
END:VTIMEZONE
BEGIN:VEVENT
DTSTART;TZID=Europe/Amsterdam:20200627T203000
DTEND;TZID=Europe/Amsterdam:20200627T213000
DTSTAMP:20260421T043714
CREATED:20200623T150737Z
LAST-MODIFIED:20200623T151914Z
UID:5451-1593289800-1593293400@www.uitinarnhem.nl
SUMMARY:#RADICAALLOKAAL: WENSLEY PIQUÉ
DESCRIPTION:#radicaallokaal Wensley Pique\nTheatermaker en poppenspeler Wensley Piqué snijdt tijdens zijn #radicaallokaal week twee belangrijke thema’s aan: ‘The human zoo’ (een etnologische tentoonstelling waarin mensen uit andere culturen werden tentoongesteld aan witte Europeanen) en ‘mental slavery’. Hoe bekijken wij mensen? Uitgaande van de psychologie van de eerste indruk gaat hij met het publiek in gesprek. In het timeslot van een uur wordt het publiek één voor één in de zaal uitgenodigd\, voor een theaterbeleving van 10 minuten. \nWit Huiswerk\nHet gesprek over racisme is ongemakkelijk\, pijnlijk en in Nederland nog vaak taboe\, maar racisme is een groot onderdeel van onze geschiedenis\, van de oorsprong van onze instituten en onze maatschappij\, en daarmee ook van ons dagelijks leven. Wil je je in racisme verdiepen? Informeer je via https://www.withuiswerk.nl/ \n
URL:https://www.uitinarnhem.nl/agenda/radicaallokaal-wensley-pique/
LOCATION:Theater aan de Rijn\, Rijnstraat 42\, Arnhem\, 6811 EX\, Nederland
CATEGORIES:Theater
ATTACH;FMTTYPE=image/png:https://www.uitinarnhem.nl/wp-content/uploads/2020/06/Vectors_all-05-LRG-CROP.png
END:VEVENT
END:VCALENDAR