BEGIN:VCALENDAR
VERSION:2.0
PRODID:-//Uit in Arnhem - ECPv5.0.0.2//NONSGML v1.0//EN
CALSCALE:GREGORIAN
METHOD:PUBLISH
X-WR-CALNAME:Uit in Arnhem
X-ORIGINAL-URL:https://www.uitinarnhem.nl
X-WR-CALDESC:Events for Uit in Arnhem
BEGIN:VTIMEZONE
TZID:Europe/Amsterdam
BEGIN:DAYLIGHT
TZOFFSETFROM:+0100
TZOFFSETTO:+0200
TZNAME:CEST
DTSTART:20250330T010000
END:DAYLIGHT
BEGIN:STANDARD
TZOFFSETFROM:+0200
TZOFFSETTO:+0100
TZNAME:CET
DTSTART:20251026T010000
END:STANDARD
END:VTIMEZONE
BEGIN:VEVENT
DTSTART;TZID=Europe/Amsterdam:20250620T200000
DTEND;TZID=Europe/Amsterdam:20250620T223000
DTSTAMP:20260421T073858
CREATED:20250218T151440Z
LAST-MODIFIED:20250218T151440Z
UID:12487-1750449600-1750458600@www.uitinarnhem.nl
SUMMARY:Pucks Open Podium in Huis van Puck
DESCRIPTION:Iedere 3e vrijdag van de maand komen muzikanten\, schrijvers\, cabaretiers\, dansers\, theatermakers en andere podiumkunstenaars uit heel Nederland bij elkaar in Pucks theatercafé of theaterzaal tijdens Pucks Open Podium! \nPucks Open Podium is altijd een samenstelling van minimaal 6 verschillende acts. De line-up bevat totaal verschillende artiesten; je vindt er zowel de singer-songwriter die voor de allereerste keer zijn allereerste liedje voor een publiek speelt\, als de cabaretier met tientallen jaren aan ervaring. De avond wordt aan elkaar gepraat door vaste presentator Jan Gipman. \nDatum: 20 juni\nTijd: 20:00 uur – 22:30 uur\nEntree: Gratis! Reserveren is niet nodig. Zorg wel dat je op tijd bent voor de eerste act. Vol is vol! \nMet het open podium wil Huis van Puck niet alleen een platform bieden voor amateurkunst maar ook een plek creëren waar theatermakers een try-out kunnen doen van een 15 minuten durende voorstelling. \n
URL:https://www.uitinarnhem.nl/agenda/pucks-open-podium-in-huis-van-puck-5/
LOCATION:Huis van Puck\, Kazerneplein 6-2\, Arnhem\, Nederland\, 6822ET\, Nederland
CATEGORIES:Cabaret,Muziek,Overig,Theater
ATTACH;FMTTYPE=image/jpeg:https://www.uitinarnhem.nl/wp-content/uploads/2025/02/pucksopenpodiumbanner-event.jpg
END:VEVENT
END:VCALENDAR