BEGIN:VCALENDAR
VERSION:2.0
PRODID:-//Uit in Arnhem - ECPv5.0.0.2//NONSGML v1.0//EN
CALSCALE:GREGORIAN
METHOD:PUBLISH
X-WR-CALNAME:Uit in Arnhem
X-ORIGINAL-URL:https://www.uitinarnhem.nl
X-WR-CALDESC:Events for Uit in Arnhem
BEGIN:VTIMEZONE
TZID:Europe/Amsterdam
BEGIN:DAYLIGHT
TZOFFSETFROM:+0100
TZOFFSETTO:+0200
TZNAME:CEST
DTSTART:20200329T010000
END:DAYLIGHT
BEGIN:STANDARD
TZOFFSETFROM:+0200
TZOFFSETTO:+0100
TZNAME:CET
DTSTART:20201025T010000
END:STANDARD
END:VTIMEZONE
BEGIN:VEVENT
DTSTART;TZID=Europe/Amsterdam:20201005T100000
DTEND;TZID=Europe/Amsterdam:20201012T210000
DTSTAMP:20260421T015827
CREATED:20201005T114531Z
LAST-MODIFIED:20201005T115044Z
UID:6089-1601892000-1602536400@www.uitinarnhem.nl
SUMMARY:Gouden Kalf winnaar Buladó in Focus Filmtheater
DESCRIPTION:Buladó van regisseur Eché Janga is bekroond met het Gouden Kalf voor beste film draait in Focus Filmtheater.  \nDe elfjarige Kenza (Tiara Richards) woont samen met haar vader Ouira (Everon Jackson Hooi) en opa Weljo (Felix de Rooy) op een autosloperij in de binnenlanden van Curaçao. De twee mannen zijn elkaars tegenpolen: Ouira is een kordate\, rationele politieagent\, terwijl Weljo zich identificeert met de oorspronkelijke bewoners en de spiritualiteit van het eiland. \nWanneer Ouira en Weljo steeds meer botsen\, zoekt de eigenzinnige Kenza vastberaden naar haar eigen weg tussen de twee uitersten. De nuchtere mentaliteit van Ouira biedt haar niet altijd meer wat ze nodig heeft en geleidelijk stelt ze zich steeds meer open voor de mystieke en geruststellende tradities van haar opa. Buladó is geregisseerd door Eché Janga die samen met Esther Duysker ook het script heeft geschreven. Het verhaal speelt zich af in Band’abou Curaçao en is deels gebaseerd op een lokale slavensaga. Door dit verhaal naar het grote doek te brengen wordt deze oude verteltraditie voortgezet. \nDeze week is Buladó te zien op de hieronder genoemde dagen en voor meer informatie en tickets check de agenda van Focus Filmtheater. \n\n\nmaandag 5 oktober: 14:15 en 19:10\n\n\nDinsdag 6 oktober: 13:30 en 21:30\n\n\nWoensdag 7 oktober: 10:50\n\n\n
URL:https://www.uitinarnhem.nl/agenda/premiere-gouden-kalf-winnaar-bulado-in-focus-filmtheater/
LOCATION:Focus Filmtheater\, Audrey Hepburnplein 1\, Arnhem\, 6811 EH\, Nederland
CATEGORIES:Film
ATTACH;FMTTYPE=image/jpeg:https://www.uitinarnhem.nl/wp-content/uploads/2020/10/Bulad-_ps_1_jpg_sd-high_Foto-by-Gregg-Telussa.jpg
END:VEVENT
END:VCALENDAR