BEGIN:VCALENDAR
VERSION:2.0
PRODID:-//Uit in Arnhem - ECPv5.0.0.2//NONSGML v1.0//EN
CALSCALE:GREGORIAN
METHOD:PUBLISH
X-WR-CALNAME:Uit in Arnhem
X-ORIGINAL-URL:https://www.uitinarnhem.nl
X-WR-CALDESC:Events for Uit in Arnhem
BEGIN:VTIMEZONE
TZID:Europe/Amsterdam
BEGIN:DAYLIGHT
TZOFFSETFROM:+0100
TZOFFSETTO:+0200
TZNAME:CEST
DTSTART:20240331T010000
END:DAYLIGHT
BEGIN:STANDARD
TZOFFSETFROM:+0200
TZOFFSETTO:+0100
TZNAME:CET
DTSTART:20241027T010000
END:STANDARD
END:VTIMEZONE
BEGIN:VEVENT
DTSTART;TZID=Europe/Amsterdam:20240412T203000
DTEND;TZID=Europe/Amsterdam:20240412T223000
DTSTAMP:20260421T051523
CREATED:20240305T112318Z
LAST-MODIFIED:20240305T122738Z
UID:8243-1712953800-1712961000@www.uitinarnhem.nl
SUMMARY:Posttheater: Leids Cabaret Festival
DESCRIPTION:\nDe finalisten van het Leids Cabaret Festival – David Linszen\, Tim Kroezen en Said El Hassnaoui – trekken van maart tot juni het land in met de Finalistentour. En 12 april staan ze in het Posttheater. Met een juryprijs\, publieksprijs óf studentenprijs op zak doen zij de finaleavond dubbel en dwars over. Zonder stress en blinde paniek deze keer\, maar met extra veel plezier!  \nNa een zenuwslopende finale heeft David Linszen de felbegeerde juryprijs\, publieksprijs én studentenprijs gewonnen. \nDe jury over winnaar:\n“David is vanaf de eerste tot de laatste seconde verrassend\, muzikaal\, origineel en hypergeestig. Eigen\, absurdistisch en met een hoge grap-dichtheid. Er was geen enkel voorspelbaar moment… een vanzelfsprekend talent!” \nWist je dat veel jonge talenten van vroeger inmiddels graag geziene ‘oude rotten’ in het vak zijn? Denk aan: Najib Amhali\, Lebbis & Jansen\, Paulien Cornelisse\, Wim Helsen\, Micha Wertheim\, Tim Fransen\, Katinka Polderman. En van de jongere generatie: Lisa Ostermann\, Jasper van der Veen\, Kasper van der Laan\, Martijn Kardol. Niet de minsten! \nKom langs en laat je verrassen! \n\nleidscabaretfestival.nl\n
URL:https://www.uitinarnhem.nl/agenda/posttheater-leids-cabaret-festival/
LOCATION:Posttheater\, Rosendaalsestraat 27\, Arnhem\, 6824 CA\, Nederland
CATEGORIES:Cabaret
ATTACH;FMTTYPE=image/jpeg:https://www.uitinarnhem.nl/wp-content/uploads/2024/03/Posttheater-leids-cabaret-festival-finalistentour-2024-s1920x1080.jpg
END:VEVENT
END:VCALENDAR