BEGIN:VCALENDAR
VERSION:2.0
PRODID:-//Uit in Arnhem - ECPv5.0.0.2//NONSGML v1.0//EN
CALSCALE:GREGORIAN
METHOD:PUBLISH
X-WR-CALNAME:Uit in Arnhem
X-ORIGINAL-URL:https://www.uitinarnhem.nl
X-WR-CALDESC:Events for Uit in Arnhem
BEGIN:VTIMEZONE
TZID:Europe/Amsterdam
BEGIN:DAYLIGHT
TZOFFSETFROM:+0100
TZOFFSETTO:+0200
TZNAME:CEST
DTSTART:20250330T010000
END:DAYLIGHT
BEGIN:STANDARD
TZOFFSETFROM:+0200
TZOFFSETTO:+0100
TZNAME:CET
DTSTART:20251026T010000
END:STANDARD
END:VTIMEZONE
BEGIN:VEVENT
DTSTART;TZID=Europe/Amsterdam:20250201T130000
DTEND;TZID=Europe/Amsterdam:20250201T160000
DTSTAMP:20260421T085512
CREATED:20241218T153132Z
LAST-MODIFIED:20241220T111807Z
UID:12083-1738414800-1738425600@www.uitinarnhem.nl
SUMMARY:Poëzieweek in Rozet
DESCRIPTION:Kom jij ook op 1 februari naar Rozet? Er is dan een middag vol mooie optredens en leuke workshops BAM! Goed gedicht! is een Poëziefestival voor kinderen (en hun ouders). Van 13 tot 16 uur kun je luisteren naar muziek\, gedichten én zelf aan de slag\, misschien word je wel uitgenodigd om je eigen gedicht voor te lezen. Bovendien wordt de winnaar van de Arnhemse gedichtenwedstrijd bekend gemaakt. Het festival is gratis toegankelijk\, maar we raden aan om je aan te melden voor optredens om teleurstellingen te voorkomen. Workshops kun je doorlopend aan deelnemen! \n \nGedichtenwedstrijd\nHeb jij al een gedicht in gestuurd voor de Arnhemse gedichtenwedstrijd? Kom je dan naar het festival? Daar kun je gedichten van andere kinderen lezen en beluisteren en er is een mooi podium met microfoon om je gedicht te laten horen! Heb je nog geen gedicht ingestuurd? Dat kan nog! Zie hier onder de spelregels:  \n– Kinderen tussen 6 en 12 mogen een gedicht insturen \n– Het thema van de gedichten is: Dichter in Arnhem. \n– Stuur de gedichten uiterlijk in op 17 januari 2025 naar roos.deridder@rozet.nl \n– Zet duidelijk bij het gedicht: Je naam en adres. \n– Een deskundige jury kiest het beste gedicht. \n– Uitreiking van de prijs is tijdens het Poëziefestival BAM! Goed gedicht! \n– Alle basisschoolleerlingen uit Arnhem mogen meedoen! \n \nFestival\nKom je naar het festival op 1 februari? Meld je dan even aan! Dan krijg je bij de ingang een leuke goodiebag! Klik hier om je aan te melden. \n \nOptredens\nTed van Lieshout is schrijver\, dichter en kunstenaar. Zijn boeken en gedichten zijn veelzijdig en al vaak bekroond met prijzen zoals de Zilveren Griffel. Ted van Lieshout schrijft grappige\, ontroerende en slimme gedichten. Misschien ken je hem van Ze gaan er met mijn neus vandoor\,  De gemene moord op Muggenmietje of zijn beeldsonnetten in Rond vierkant vierkant rond? Tijdens Bam! Goed gedicht! kun je zijn leuke gedichten horen en misschien soms meedoen. Meld je aan zodat je zeker weet dat er plek is! \nLiedjesvoorstelling Alle wensen van de wereld Al meer dan dertig jaar zingt en speelt theaterduo Luc & Marcelle met veel hartstocht en interactie met kinderen in binnen- en buitenland. Vandaag brengen ze een verrassende en ontroerende liedjesvoorstelling\, gebaseerd op de dichtbundel Alle wensen van de wereld van Rian Visser (poëzie) en Janneke Ipenburg (illustraties). In Alle wensen van de wereld worden allerlei onderwerpen behandeld die herkenbaar zijn voor groot en klein. Zo bieden de gedichten aanknopingspunten voor mooie gesprekken met kinderen. Luc en Marcelle hebben de mooiste gedichten uit de bundel op muziek gezet.  \n  \nWorkshops\nTijdens het festival zijn er in Rozet doorlopend leuke workshops waar je aan mee kunt doen. Je hoeft je niet vooraf aan te melden. Hier lichten we alvast een paar workshops uit\, tijdens het festival is er nog veel meer te doen!  \n \nPoëtisch Handletteren Bij poëzie gaat het niet alleen over schrijven\, maar ook hoe je het presenteert op je papier. Arnhemse kinderboekmakers Emma Ringelding en Abe Borst helpen je in de workshop “Poëtisch Handletteren” je gedicht naar een volgend niveau te tillen. Leer letters op een nieuwe manier kennen door ze in nieuwe en misschien ook bekende vormen te gieten. Je kunt aan de slag gaan met je eigen gedichten\, of bestaande gedichten.\n \nDICHTLETTERS: HUIS-KAMER-STAD Kom en maak met de sjablonen van het spel DICHTLETTERS samen een kamer\, huis of stad van woorden! DICHTLETTERS is een taalspel dat je met zijn tweeën kunt doen\, waarbij je elkaar verrast. Het laat je schrijven en tekenen met letters door middel van dichtsjablonen en stapsgewijze opdrachten. Het spel is ontwikkeld door grafisch ontwerpers Janna en Hilde Meeus. \n \nExpositite\nTijdens het festival kun je ook de gedichten lezen die zijn ingezonden voor de gedichtenwedstrijd! Er is een leuke expositie. Misschien hangt jouw gedicht er ook wel tussen? \n
URL:https://www.uitinarnhem.nl/agenda/poezieweek-in-rozet/
LOCATION:Rozet\, Kortestraat 16\, Arnhem\, 6811EP\, Nederland
CATEGORIES:Actief,Festival,Informatief & Verrijking,Kindvriendelijk
ATTACH;FMTTYPE=image/png:https://www.uitinarnhem.nl/wp-content/uploads/2024/12/Onderwijs_poezieweek2025_logoBAM-Goed-gedicht-klein-1800x1350-1.png
END:VEVENT
END:VCALENDAR