BEGIN:VCALENDAR
VERSION:2.0
PRODID:-//Uit in Arnhem - ECPv5.0.0.2//NONSGML v1.0//EN
CALSCALE:GREGORIAN
METHOD:PUBLISH
X-WR-CALNAME:Uit in Arnhem
X-ORIGINAL-URL:https://www.uitinarnhem.nl
X-WR-CALDESC:Events for Uit in Arnhem
BEGIN:VTIMEZONE
TZID:Europe/Amsterdam
BEGIN:DAYLIGHT
TZOFFSETFROM:+0100
TZOFFSETTO:+0200
TZNAME:CEST
DTSTART:20200329T010000
END:DAYLIGHT
BEGIN:STANDARD
TZOFFSETFROM:+0200
TZOFFSETTO:+0100
TZNAME:CET
DTSTART:20201025T010000
END:STANDARD
END:VTIMEZONE
BEGIN:VEVENT
DTSTART;TZID=Europe/Amsterdam:20200701T200000
DTEND;TZID=Europe/Amsterdam:20200701T213000
DTSTAMP:20260421T061327
CREATED:20200623T152928Z
LAST-MODIFIED:20200701T091142Z
UID:5471-1593633600-1593639000@www.uitinarnhem.nl
SUMMARY:Phion met Strijkersserenade van Dvórak in Musis
DESCRIPTION:\nKom met ONS genieten van Phion! \n\n\nVanaf seizoen 2020-2021 opereren Het Gelders Orkest en het Orkest van het Oosten onder de nieuwe naam Phion\, orkest van Gelderland & Overijssel. Deze avond spelen strijkers van Phion een speciaal programma voor ONS! \nProgramma:\nMendelssohn – Symfonie nr. 10 in b\nBarber – Adagio voor strijkers\, op. 11\nDvórak – Serenade voor strijkers in E\, op. 22 \nDirigent: Otto Tausk \n►Bekijk hier het hele programma van ONS festival \n\n
URL:https://www.uitinarnhem.nl/agenda/phion-met-strijkersserenade-van-dvorak-in-musis/
LOCATION:Musis\, Velperbinnensingel 15\, Arnhem\, 6811BP\, Nederland
CATEGORIES:Muziek,Theater
ATTACH;FMTTYPE=image/jpeg:https://www.uitinarnhem.nl/wp-content/uploads/2020/06/phion_website-scaled.jpg
END:VEVENT
END:VCALENDAR