BEGIN:VCALENDAR
VERSION:2.0
PRODID:-//Uit in Arnhem - ECPv5.0.0.2//NONSGML v1.0//EN
CALSCALE:GREGORIAN
METHOD:PUBLISH
X-WR-CALNAME:Uit in Arnhem
X-ORIGINAL-URL:https://www.uitinarnhem.nl
X-WR-CALDESC:Events for Uit in Arnhem
BEGIN:VTIMEZONE
TZID:Europe/Amsterdam
BEGIN:DAYLIGHT
TZOFFSETFROM:+0100
TZOFFSETTO:+0200
TZNAME:CEST
DTSTART:20260329T010000
END:DAYLIGHT
BEGIN:STANDARD
TZOFFSETFROM:+0200
TZOFFSETTO:+0100
TZNAME:CET
DTSTART:20261025T010000
END:STANDARD
END:VTIMEZONE
BEGIN:VEVENT
DTSTART;TZID=Europe/Amsterdam:20260208T150000
DTEND;TZID=Europe/Amsterdam:20260208T230000
DTSTAMP:20260421T002349
CREATED:20260120T171943Z
LAST-MODIFIED:20260120T171943Z
UID:13981-1770562800-1770591600@www.uitinarnhem.nl
SUMMARY:Pass The Dutch Festival in Luxor Live
DESCRIPTION:Pass The Dutch Festival is het in Arnhem ontstane\, gezellige mini-festival voor de echte Reggae liefhebber. Live muziek\, DJ’s\, een dik soundsystem en Caribisch eten! De organisatie haalt opnieuw de krenten uit de Nederlandse pap en brengt ze naar Luxor Live. Scoor dus snel je tickets! \nRapha Pico\nMet zijn dynamische rootsreggae en krachtige teksten over liefde\, vrede en gelijke rechten is de Amsterdammer met Afrikaans-Surinaamse roots Rapha Pico een authentieke stem in de reggae- en dubscene. In 2013 nam hij al zijn eerste EP ‘Roots’ op in de studio van Bob Marley in Kingston\, Jamaica. Hij brak in 2019 door met zijn single ‘Lead The Way’. Ook deelde hij het podium met grote namen als Bunny Wailer\, Damian Marley en Mad Professor! Solo te zien bij Pass the Dutch Festival! \nColin Enrico & The Healers\nColin Enrico & The Healers is een energieke rootsreggaeband die een unieke live-ervaring biedt met vintage klanken\, soulvolle ritmes en diepzinnige teksten. Multi talent Colin Enrico maakt sinds 2006 reggaenummers onder zijn eigen label HomeGrown Recordz. Vorig jaar verscheen zijn meest recente album ’the Rising’. Met zijn authentieke stem\, krachtige energie en positieve boodschap weet Colin Enrico wereldwijd zijn publiek te raken. Met The Healers brengt hij vrolijke\, bewuste reggaemuziek die verbinding\, vrijheid en positiviteit uitstraalt. \nBorn A Tribe\nBorn A Tribe is een reggaeband uit Amsterdam\, ontstaan uit vriendschap en een diepe liefde voor reggaemuziek. De bandleden zijn afkomstig uit verschillende landen en culturen. Dit is duidelijk terug te horen in hun sound. De muziek heeft een stevige basis van reggae\, maar wordt verrijkt met invloeden uit funk\, flamenco\, pop\, hiphop\, dancehall en ska! Born A Tribe kon je eerder zien op festivals als Zwarte Cross\, Kwaku Festival en Reggae Lake! \nStrawl + DJ Jeffefah\nZanger en songwriter Strawl brengt krachtige reggae met een boodschap; roots\, cultuur en bewustzijn. Oorspronkelijk afkomstig van Sint Eustatius scoorde hij al hits in de Caribische hitlijsten. Zijn muziek combineert diepe baslijnen\, soulvolle melodieën en vurige teksten. Bij Pass the Dutch zie je hem samen met de producer DJ Jeffafah die zowel roots reggae\, dancehall als afrobeat maakt. Samen brengen ze muziek met een oproep tot rechtvaardigheid\, positiviteit\, eenheid en good vibes! \nGentle Fire\nGentle Fire is een veelzijdige reggaeband uit Arnhem met onder andere een blazerssectie\, percussionist en zangeres met een onderscheidend stemgeluid. Door hun gezamenlijke liefde voor reggae leerden zij elkaar kennen en verenigden zich in het collectief Skankin’ Vibes. In 2026 heeft dit collectief een doorstart gemaakt onder de naam Gentle Fire. De groep speelt eigen nummers met af en toe een cover. Hierbij worden verschillende reggaestijlen moeiteloos vermengd met elementen uit blues\, soul en pop. \nDJ Ewa\nDJ Ewa (Iwan Huyck) heeft een enorme bijdrage geleverd aan de Reggae cultuur in Nederland; als lid van de legendarische Easy Time Crew en DJ op verschillende Reggae avonden waaronder zijn eigen Blazing Friday. \nDJ Madbwoy\nIn Luxor Live kennen we Earl Maddy al als drummer van de band The Dubbeez. Als Madbwoy is hij één van de meest gewaardeerde dancehall en reggae dj’s van het land! \nWillow Hifi\nGeïnspireerd door de soundsystem cultuur uit Jamaica en de hifi International speakers van Philips\, is Willow Hifi ontstaan. Vintage\, een beetje rauw qua uitstraling en verfijnd in geluid en bij Pass the Dutch Festival verantwoordelijk voor het geluid. \nMeer informatie en tickets: https://www.luxorlive.nl/agenda/pass-the-dutch-2/ \n
URL:https://www.uitinarnhem.nl/agenda/pass-the-dutch-festival-in-luxor-live/
LOCATION:Luxor Live\, Willemsplein 10\, Arnhem\, 6811KB\, Nederland
CATEGORIES:Festival,Muziek
ATTACH;FMTTYPE=image/jpeg:https://www.uitinarnhem.nl/wp-content/uploads/2026/01/PassTheDutch_website-2-1920x630-1.jpg
END:VEVENT
END:VCALENDAR