BEGIN:VCALENDAR
VERSION:2.0
PRODID:-//Uit in Arnhem - ECPv5.0.0.2//NONSGML v1.0//EN
CALSCALE:GREGORIAN
METHOD:PUBLISH
X-WR-CALNAME:Uit in Arnhem
X-ORIGINAL-URL:https://www.uitinarnhem.nl
X-WR-CALDESC:Events for Uit in Arnhem
BEGIN:VTIMEZONE
TZID:Europe/Amsterdam
BEGIN:DAYLIGHT
TZOFFSETFROM:+0100
TZOFFSETTO:+0200
TZNAME:CEST
DTSTART:20240331T010000
END:DAYLIGHT
BEGIN:STANDARD
TZOFFSETFROM:+0200
TZOFFSETTO:+0100
TZNAME:CET
DTSTART:20241027T010000
END:STANDARD
END:VTIMEZONE
BEGIN:VEVENT
DTSTART;TZID=Europe/Amsterdam:20240810T200000
DTEND;TZID=Europe/Amsterdam:20240810T230000
DTSTAMP:20260421T045649
CREATED:20240702T103833Z
LAST-MODIFIED:20240702T103833Z
UID:9677-1723320000-1723330800@www.uitinarnhem.nl
SUMMARY:Outdoor Cinema in Park Sonsbeek
DESCRIPTION:Outdoor Cinema in Park Sonsbeek\nZaterdagavond 10 augustus is het weer zover. Dan organiseren Pathé & Stadsvilla Sonsbeek een ‘Outdoor Cinema’ avond in Park Sonsbeek. Voor de 8ste keer\, zal\, pal voor Stadsvilla Sonsbeek\, een bijzondere film op een mega–scherm getoond worden. Ontdek de magie van een film kijken in de openlucht. Het gevoel dat je even in een andere wereld zit. Het gevoel dat je even mag wegdromen. \nUitzicht over de stad\nHet uitzicht over het centrum van Arnhem\, vanaf de Stadsvilla\, is al filmisch van zichzelf. Het aflopende grasveld als een natuurlijke tribune\, met een groot scherm in het dal zal wederom fantastisch zijn! Jij krijgt als bezoeker een eigen koptelefoon zodat je het geluid perfect kunt horen. Deze “Silent Outdoor Cinema” ervaring in combinatie met het mooiste plekje van Arnhem is de basis voor een bijzondere avond! \nWELKE FILM: Wonka!\nZo werd Willy Wonka! Gebaseerd op het bijzondere personage uit Charlie and the Chocolate Factory (Roald Dahl’s meest iconische kinderboek) zie je nu op welke wonderbaarlijke wijze ’s werelds grootste uitvinder\, goochelaar en chocolatier de geliefde Willy Wonka werd die we nu allemaal kennen.\nMeer info over de film & trailer: WONKA \nHOE WERK HET?\nIedere bezoeker kan tickets kopen en downloaden via de website van Buitenplaats Sonsbeek. Op de avond zelf krijg je een koptelefoon waarop de audio van de film wordt afgespeeld. \nTegen inlevering van je ticket ontvang je op 10 augustus vanaf 20:00 uur in de Stadsvilla een koptelefoon. De film start na zonsondergang. (Zonsondergang op 10 augustus is: 21:09 uur.) \nBIJ SLECHT WEER\nBij erg slecht weer kan het zijn dat de Outdoor Cinema wordt afgelast. De tickets worden dan niet geretourneerd en zijn geldig op een nieuwe datum. Wanneer er geen nieuwe datum komt zal het volledige ticket bedrag teruggestort worden op je rekening. \nTIP: neem je eigen kleedje mee voor op het gras!\nNavigatieadres: Apeldoornseweg 75 \nOp de hoogte blijven van het evenement? Check het Facebook Event.\nOp de hoogte blijven van alles wat er te doen is in Arnhem? Bekijk hier de hele agenda van UIT in Arnhem. \n
URL:https://www.uitinarnhem.nl/agenda/outdoor-cinema-in-park-sonsbeek/
LOCATION:Stadsvilla Sonsbeek\, Tellegenlaan 3\, Arnhem\, 6814BT
CATEGORIES:Film
ATTACH;FMTTYPE=image/jpeg:https://www.uitinarnhem.nl/wp-content/uploads/2024/07/Outdoor-Cinema-Stadsvilla_byMashaBakker-2016-scaled-1.jpeg
END:VEVENT
END:VCALENDAR