BEGIN:VCALENDAR
VERSION:2.0
PRODID:-//Uit in Arnhem - ECPv5.0.0.2//NONSGML v1.0//EN
CALSCALE:GREGORIAN
METHOD:PUBLISH
X-WR-CALNAME:Uit in Arnhem
X-ORIGINAL-URL:https://www.uitinarnhem.nl
X-WR-CALDESC:Events for Uit in Arnhem
BEGIN:VTIMEZONE
TZID:Europe/Amsterdam
BEGIN:DAYLIGHT
TZOFFSETFROM:+0100
TZOFFSETTO:+0200
TZNAME:CEST
DTSTART:20250330T010000
END:DAYLIGHT
BEGIN:STANDARD
TZOFFSETFROM:+0200
TZOFFSETTO:+0100
TZNAME:CET
DTSTART:20251026T010000
END:STANDARD
END:VTIMEZONE
BEGIN:VEVENT
DTSTART;TZID=Europe/Amsterdam:20250321T203000
DTEND;TZID=Europe/Amsterdam:20250322T000000
DTSTAMP:20260421T121200
CREATED:20250303T171029Z
LAST-MODIFIED:20250303T171029Z
UID:12565-1742589000-1742601600@www.uitinarnhem.nl
SUMMARY:Orquesta Salsabor in Rembrandt
DESCRIPTION:Orquesta Salsabor strijkt opnieuw neer in Rembrandt! Deze energieke\, 19-koppige salsa bigband bestaat uit muzikanten uit Cuba\, Argentinië\, Curaçao en Nederland. Het orkest speelt de grote klassiekers van het traditionele latin en salsa bigbandrepertoire uit Cuba\, van onder andere Machito en Benny Moré. Ook neemt Salsabor je mee naar de bruisende straten van New York in de jaren ’70 en ’80\, waar de groovende Salsa Dura muziek uit ‘el barrio’\, van salsa-iconen als Eddie Palmieri en Willie Colon\, de harten van velen veroverden. Als kers op de taart geeft Watapana Dance Company een salsa workshop! \nOrquesta Salsabor\nOrquesta Salsabor is ruim 25 jaar geleden opgericht in Arnhem en is actief op Nederlandse en buitenlandse podia. Ze zijn te horen op diverse muziekfestivals en salsafeesten. De ingrediënten van een avondje Orquesta Salsabor zijn een pakkend repertoire\, swingende salsa dansnummers en een goede sfeer! \nWatapana Dance Company\nDeze dansschool\, gelegen in hartje Arnhem\, is in 2018 opgericht door de gepassioneerde dansers André en Julia. Met meer dan 10 jaar internationale ervaring\, delen ze hun expertise en liefde voor salsa graag met anderen. Ze leren je de juiste stappen direct vanaf het begin\, zodat je snel kunt groeien en zelfverzekerder wordt op de dansvloer. Gegarandeerd dat je vanuit Rembrandt met een glimlach op je gezicht naar huis gaat! \nVoorafgaand en na afloop van het concert draait de dj fijne muziek voor de salsa dansers onder u! \n
URL:https://www.uitinarnhem.nl/agenda/orquesta-salsabor-in-rembrandt/
LOCATION:Rembrandt Theater\, Velperplein 10\, Arnhem
CATEGORIES:Muziek,Overig
ATTACH;FMTTYPE=image/jpeg:https://www.uitinarnhem.nl/wp-content/uploads/2025/03/Rembrandt_Orquesta-Salsabor_web-1920x630-1.jpg
END:VEVENT
END:VCALENDAR