BEGIN:VCALENDAR
VERSION:2.0
PRODID:-//Uit in Arnhem - ECPv5.0.0.2//NONSGML v1.0//EN
CALSCALE:GREGORIAN
METHOD:PUBLISH
X-WR-CALNAME:Uit in Arnhem
X-ORIGINAL-URL:https://www.uitinarnhem.nl
X-WR-CALDESC:Events for Uit in Arnhem
BEGIN:VTIMEZONE
TZID:Europe/Amsterdam
BEGIN:DAYLIGHT
TZOFFSETFROM:+0100
TZOFFSETTO:+0200
TZNAME:CEST
DTSTART:20250330T010000
END:DAYLIGHT
BEGIN:STANDARD
TZOFFSETFROM:+0200
TZOFFSETTO:+0100
TZNAME:CET
DTSTART:20251026T010000
END:STANDARD
END:VTIMEZONE
BEGIN:VEVENT
DTSTART;TZID=Europe/Amsterdam:20250801T220000
DTEND;TZID=Europe/Amsterdam:20250927T233000
DTSTAMP:20260421T103707
CREATED:20250707T181541Z
LAST-MODIFIED:20250707T181541Z
UID:13423-1754085600-1759015800@www.uitinarnhem.nl
SUMMARY:Openluchtfilms op het dak van Focus
DESCRIPTION:Onder de sterrenhemel\, met uitzicht op de Eusebius en de wind door je haren op groot scherm samen film kijken; deze zomer kun je bij Focus weer het dak op! Het filmtheater aan het Audrey Hepburnplein in Arnhem vertoont van vr 1 aug t/m za 27 sept 2025 openluchtfilms in de unieke dakzaal.  \nTe zien is een divers programma vol zomerse klassiekers\, de mooiste animatiefilms voor volwassenen\, publieksfavorieten\, familiedrama’s\, een klassieker met Audrey Hepburn én het beste van de gebroeders Dardenne. Bovendien houdt het filmtheater enkele avonden in het openluchtprogramma vrij voor het programmaonderdeel Je kunt het dak op!\, waarvoor bezoekers zelf films mogen aandragen (zie ook www.focusarnhem.nl/jekunthetdakop). \nDeze zomer zie je op het dak van Focus onder andere Wes Andersons Fantastic Mr. Fox\, klassieker Paris When It Sizzles met Audrey Hepburn\, Le gamin au vélo en Rosetta van de gebroeders Dardenne\, bestseller-verfilming The Salt Path\, Oscarwinnaar Anora\, Steven Spielbergs baanbrekende blockbuster Jaws\, de vlijmscherpe zwarte komedie Parasite\, Captain Fantastic met fraaie hoofdrol voor Viggo Mortensen\, de prachtige animatiefilm The Red Turtle\, zomerse klassieker La piscine met Alain Delon en Romy Schneider\, Studio Ghibli’s betoverende animatie Grave of the Fireflies\, en meer! \nBekijk het hele programma met 28 verschillende films op www.focusarnhem.nl/ophetdak. De kaartverkoop is gestart! \nIs het een beetje fris buiten? Geen probleem. Er zijn Focus-dekentjes beschikbaar en alle stoelen in de dakzaal zijn voorzien van duurzame Sit & Heat warmtekussens. De films in het Focus op het dak-programma gaan altijd door; bij slecht weer verplaatst de film naar binnen. \nKaartverkoop\nEr is maar beperkt plek in de dakzaal\, dus koop je tickets op tijd via www.focusarnhem.nl/ophetdak. Voor de openluchtfilms gelden dezelfde tarieven als voor de reguliere films in Focus. \n  \n
URL:https://www.uitinarnhem.nl/agenda/openluchtfilms-op-het-dak-van-focus-2/
LOCATION:Focus Filmtheater\, Audrey Hepburnplein 1\, Arnhem\, 6811 EH\, Nederland
CATEGORIES:Film
ATTACH;FMTTYPE=image/jpeg:https://www.uitinarnhem.nl/wp-content/uploads/2025/07/FOCUS_ophetdak_ValerieSpanjers_07-2022_websize0023-1.jpg
END:VEVENT
END:VCALENDAR